Workbook
Name Print_Area_MI: '1'!#REF!
Name Print_Area_MI: '2'!#REF!
Name Print_Area_MI: '3'!#REF!
Name Print_Area_MI: '4'!#REF!
Name Print_Area_MI: '5'!#REF!
Name Print_Area_MI: '6'!#REF!
Name Print_Area_MI: '7'!#REF!
Name Print_Area_MI: '8'!#REF!
Name Print_Area_MI: '9'!#REF!
Name Print_Area_MI: A!#REF!
Name Print_Area_MI: Summary!#REF!

Sheet 1
A2: PART 1: PRELIMINARY AND GENERAL
A4: ITEM | B4: PAYMENT | C4: DESCRIPTION | D4: UNIT | E4: QTY | F4: RATE | G4: AMOUNT
A5: NO | B5: REFERS
B7: SANS | G7: =IF($F7=" "," ",ROUND($E7*F7,2))
B8: 1200 A | C8: GENERAL | G8: =IF($F8=" "," ",ROUND($E8*F8,2))
G9: =IF($F9=" "," ",ROUND($E9*F9,2))
A10: 1.1 | B10: 8.3 | C10: FIXED-CHARGED ITEMS | G10: =IF($F10=" "," ",ROUND($E10*F10,2))
G11: =IF($F11=" "," ",ROUND($E11*F11,2))
A12: 1.1.1 | B12: 8.3.1 | C12: Contractual requirements | D12: Sum | E12: 1 | G12: =IF($F12=" "," ",ROUND($E12*F12,2))
G13: =IF($F13=" "," ",ROUND($E13*F13,2))
B14: 8.3.2 | C14: Establishment of facilities on site | G14: =IF($F14=" "," ",ROUND($E14*F14,2))
A15: 1.1.2 | B15: 8.3.2.1 | C15: Facilities for the Engineer | G15: =IF($F15=" "," ",ROUND($E15*F15,2))
A16: 1.1.2.1 | C16: a) Furnished Offices & ablution facilities | D16: Sum | E16: 1 | G16: =IF($F16=" "," ",ROUND($E16*F16,2))
A17: 1.1.2.2 | C17: b) Nameboards (2 No.) | D17: Sum | E17: 1 | G17: =IF($F17=" "," ",ROUND($E17*F17,2))
A18: 1.1.2.3 | C18: c) Carports | D18: No | E18: 2 | G18: =IF($F18=" "," ",ROUND($E18*F18,2))
A19: 1.1.2.4 | C19: d) Equipment | D19: Sum | E19: 1 | G19: =IF($F19=" "," ",ROUND($E19*F19,2))
A20: 1.1.2.5 | C20: e) Telephone, Fax, etc | D20: Sum | E20: 1 | G20: =IF($F20=" "," ",ROUND($E20*F20,2))
A21: 1.1.2.6 | C21: f) Survey Assistants and Materials | D21: Sum | E21: 1 | G21: =IF($F21=" "," ",ROUND($E21*F21,2))
G22: =IF($F22=" "," ",ROUND($E22*F22,2))
A23: 1.1.3 | B23: 8.3.2.2 | C23: Facilities for the Contractor | D23: Sum | E23: 1 | G23: =IF($F23=" "," ",ROUND($E23*F23,2))
G24: =IF($F24=" "," ",ROUND($E24*F24,2))
A25: 1.1.4 | B25: 8.3.3 | C25: Other fixed-charged obligations | D25: Sum | E25: 1 | G25: =IF($F25=" "," ",ROUND($E25*F25,2))
G26: =IF($F26=" "," ",ROUND($E26*F26,2))
A27: 1.1.5 | B27: 8.3.4 | C27: Removal of site establishment | D27: Sum | E27: 1 | G27: =IF($F27=" "," ",ROUND($E27*F27,2))
G28: =IF($F28=" "," ",ROUND($E28*F28,2))
A29: 1.2 | B29: 8.4 | C29: TIME RELATED ITEMS | G29: =IF($F29=" "," ",ROUND($E29*F29,2))
G30: =IF($F30=" "," ",ROUND($E30*F30,2))
A31: 1.2.1 | B31: 8.4.1 | C31: Contractual requirements | D31: Sum | E31: 1 | G31: =IF($F31=" "," ",ROUND($E31*F31,2))
G32: =IF($F32=" "," ",ROUND($E32*F32,2))
B33: 8.4.2 | C33: Operation and maintenance of facilities on site | G33: =IF($F33=" "," ",ROUND($E33*F33,2))
A34: 1.2.2 | B34: 8.4.2.1 | C34: Facilities for the Engineer | G34: =IF($F34=" "," ",ROUND($E34*F34,2))
A35: 1.2.2.2 | C35: a) Furnished Offices & ablution facilities | D35: Sum | E35: 1 | G35: =IF($F35=" "," ",ROUND($E35*F35,2))
A36: 1.2.2.3 | C36: b) Nameboards (2 No.) | D36: Sum | E36: 1 | G36: =IF($F36=" "," ",ROUND($E36*F36,2))
A37: 1.2.2.4 | C37: c) Carports | D37: No | E37: 2 | G37: =IF($F37=" "," ",ROUND($E37*F37,2))
A38: 1.2.2.5 | C38: d) Equipment | D38: Sum | E38: 1 | G38: =IF($F38=" "," ",ROUND($E38*F38,2))
A39: 1.2.2.6 | C39: e) Telephone, Fax, etc | D39: Sum | E39: 1 | G39: =IF($F39=" "," ",ROUND($E39*F39,2))
A40: 1.2.2.7 | C40: f) Survey Assistants and Materials | D40: Sum | E40: 1 | G40: =IF($F40=" "," ",ROUND($E40*F40,2))
G41: =IF($F41=" "," ",ROUND($E41*F41,2))
A42: 1.2.3 | B42: 8.4.2.2 | C42: Facilities for the Contractor | D42: Sum | E42: 1 | G42: =IF($F42=" "," ",ROUND($E42*F42,2))
G43: =IF($F43=" "," ",ROUND($E43*F43,2))
A44: 1.2.4 | B44: 8.4.3 | C44: Supervision for duration of construction | D44: Sum | E44: 1 | G44: =IF($F44=" "," ",ROUND($E44*F44,2))
G45: =IF($F45=" "," ",ROUND($E45*F45,2))
A46: 1.2.5 | B46: 8.4.4 | C46: Company and head office overhead costs for duration of contract | D46: Sum | E46: 1 | G46: =IF($F46=" "," ",ROUND($E46*F46,2))
G47: =IF($F47=" "," ",ROUND($E47*F47,2))
A48: 1.2.6 | B48: 8.4.5 | C48: Other time-related obligations | D48: Sum | E48: 1 | G48: =IF($F48=" "," ",ROUND($E48*F48,2))
A50: 1.2.7 | B50: 8.4.3 | C50: Management of the Designated Group (local labour resources, local suppliers and subcontractors, Refer to Contract Data) | D50: Sum | E50: 1 | G50: =IF($F50=" "," ",ROUND($E50*F50,2))
A51: CARRIED FORWARD | G51: =IF(SUM(G6:G50)=0,"",SUM(G6:G50))
A54: =+A2 -> PART 1: PRELIMINARY AND GENERAL
A56: ITEM | B56: PAYMENT | C56: DESCRIPTION | D56: UNIT | E56: QTY | F56: RATE | G56: AMOUNT
A57: NO | B57: REFERS
A58: BROUGHT FORWARD | G58: =IF(G51="","",G51)
G59: =IF($F59=" "," ",ROUND($E59*F59,2))
A60: 1.3 | B60: 8.5 | C60: SUMS STATED PROVISIONALLY BY THE ENGINEER | G60: =IF($F60=" "," ",ROUND($E60*F60,2))
G61: =IF($F61=" "," ",ROUND($E61*F61,2))
C62: a) Provisional Sums for work to be executed by the Contractor | G62: =IF($F62=" "," ",ROUND($E62*F62,2))
A63: 1.3.1 | C63: Allowance for the construction of miscellaneous items as directed by the Engineer | D63: PS | E63: 1 | F63: 500000 | G63: =IF($F63=" "," ",ROUND($E63*F63,2)) -> 500000
A64: 1.3.2 | C64: Allowance for the construction of cofferdam at the abstraction works | D64: PS | E64: 1 | F64: 8000000 | G64: =IF($F64=" "," ",ROUND($E64*F64,2)) -> 8000000
G65: =IF($F65=" "," ",ROUND($E65*F65,2))
C66: b) 1) Provisional Sums for work to be executed by the Employer or a Nominated Sub-Contractor | G66: =IF($F66=" "," ",ROUND($E66*F66,2))
A67: 1.3.3 | C67: i) Additional tests ordered by the Engineer | D67: PS | E67: 1 | F67: 400000 | G67: =IF($F67=" "," ",ROUND($E67*F67,2)) -> 400000
C68: ii) Logistics for | G68: =IF($F68=" "," ",ROUND($E68*F68,2))
A69: 1.3.4 | C69: - Project Steering Committee Meeting | D69: PS | E69: 1 | F69: 500000 | G69: =IF($F69=" "," ",ROUND($E69*F69,2)) -> 500000
A70: 1.3.5 | C70: iii) Blasting monitoring specialist | D70: PS | E70: 1 | F70: 200000 | G70: =IF($F70=" "," ",ROUND($E70*F70,2)) -> 200000
A71: 1.3.6 | C71: iv) Appointment of Community Liaison Officer | D71: PS | E71: 1 | F71: 270000 | G71: =IF($F71=" "," ",ROUND($E71*F71,2)) -> 270000
A72: 1.3.7 | C72: v) Permanent Signage | D72: PS | E72: 1 | F72: 100000 | G72: =IF($F72=" "," ",ROUND($E72*F72,2)) -> 100000
A73: 1.3.8 | C73: vi) In service and Graduate Training | D73: PS | E73: 1 | F73: 4000000 | G73: =IF($F73=" "," ",ROUND($E73*F73,2)) -> 4000000
G74: =IF($F74=" "," ",ROUND($E74*F74,2))
A75: 1.3.9 | C75: b) 2) Overheads, charges and profit on b) 1) above | D75: % | G75: =IF($E75=" "," ",ROUND(SUM(G67:G73)*E75%,2))
A77: 1.4. | B77: 8.8 | C77: TEMPORARY WORKS
A79: 1.4.1 | B79: 8.8.1 | C79: Main access road to works (upgrade & maintain) | D79: Sum | E79: 1 | G79: =IF($F79=" "," ",ROUND($E79*F79,2))
B81: 8.8.3 | C81: Protection of all existing structures & works
A82: 1.4.2 | C82: a) Fencing of construction site | D82: Sum | E82: 1 | G82: =IF($F82=" "," ",ROUND($E82*F82,2))
G83: =IF($F83=" "," ",ROUND($E83*F83,2))
B84: PSA 8.8.4 | C84: Existing services (protection)
A85: 1.4.3 | C85: a) Excavation by hand in soft material to expose | D85: m3 | E85: 30 | G85: =IF($F85=" "," ",ROUND($E85*F85,2))
A87: 1.4.4 | B87: PSA 8.8.6 | C87: Special Water Control | D87: Sum | E87: 1 | G87: =IF($F87=" "," ",ROUND($E87*F87,2))
G88: =IF($F88=" "," ",ROUND($E88*F88,2))
A89: 1.4.5 | B89: PSA8.8.6.1 | C89: Dealing with Surface runoff | D89: Sum | E89: 1 | G89: =IF($F89=" "," ",ROUND($E89*F89,2))
G90: =IF($F90=" "," ",ROUND($E90*F90,2))
A91: 1.4.6 | B91: PSA8.8.6.4 | C91: Dealing with Sub-surface groundwater flow | D91: Sum | E91: 1 | G91: =IF($F91=" "," ",ROUND($E91*F91,2))
G92: =IF($F92=" "," ",ROUND($E92*F92,2))
A93: 1.4.7 | B93: PSA8.8.6.5 | C93: Dealing with Sub-surface water table | D93: Sum | E93: 1 | G93: =IF($F93=" "," ",ROUND($E93*F93,2))
G94: =IF($F94=" "," ",ROUND($E94*F94,2))
A95: 1.4.8 | B95: PSA8.8.7 | C95: River Diversion | D95: Sum | E95: 1 | F95: =A!G108 | G95: =IF($F95=" "," ",ROUND($E95*F95,2)) -> 0
G96: =IF($F96=" "," ",ROUND($E96*F96,2))
A97: CARRIED FORWARD | G97: =IF(SUM(G58:G96)=0,"",SUM(G58:G96)) -> 13970000
A100: =+A54 -> PART 1: PRELIMINARY AND GENERAL
A102: ITEM | B102: PAYMENT | C102: DESCRIPTION | D102: UNIT | E102: QTY | F102: RATE | G102: AMOUNT
A103: NO | B103: REFERS
A104: BROUGHT FORWARD | G104: =IF(G97="","",G97) -> 13970000
A105: 1.5. | B105: PSHSS | C105: HEALTH AND SAFETY | G105: =IF($F105=" "," ",ROUND($E105*F105,2))
G106: =IF($F106=" "," ",ROUND($E106*F106,2))
A107: 1.5.1 | B107: PSHSS 6.1.2 | C107: Preparation of the contractor's site-specific Health and Safety Plan | D107: PS | E107: 1 | F107: 3500 | G107: =IF($F107=" "," ",ROUND($E107*F107,2)) -> 3500
G108: =IF($F108=" "," ",ROUND($E108*F108,2))
A109: 1.5.2 | B109: CR 5(1)l | C109: Principal contractor's initial obligations in respect of the Occupational Health and Safety Act and Construction Regulations | D109: PS | E109: 1 | F109: 50000 | G109: =IF($F109=" "," ",ROUND($E109*F109,2)) -> 50000
G110: =IF($F110=" "," ",ROUND($E110*F110,2))
A111: 1.5.3 | B111: OHSA 8 | C111: Principal contractor's time related obligations in respect of Occupational Health and Safety Act and the Construction Regulations | D111: Month | E111: 30 | F111: 10000 | G111: =IF($F111=" "," ",ROUND($E111*F111,2)) -> 300000
A113: 1.5.4 | B113: GSR 2, PSHSS 7.7 | C113: Provision of SABS approved Personal Protective Equipment | D113: PS | E113: 1 | F113: 255000 | G113: =IF($F113=" "," ",ROUND($E113*F113,2)) -> 255000
A115: 1.5.5 | B115: CR 8(5); PSHSS 6.1.5 | C115: Provision of two (2) full-time SACPCMP registered Construction Health and Safety Officers for the duration of the Contract | D115: Month | E115: 30 | F115: 60000 | G115: =IF($F115=" "," ",ROUND($E115*F115,2)) -> 1800000
A117: 1.5.6 | B117: PSHSS 6.1.5 | C117: Provision of two (2) full-time Health and Safety Administrators for the duration of the Contract | D117: Month | E117: 30 | F117: 17000 | G117: =IF($F117=" "," ",ROUND($E117*F117,2)) -> 510000
...

Sheet 2
A2: PART 2: SITE CLEARING, EXCAVATION AND EARTHWORKS
A4: ITEM | B4: PAYMENT | C4: DESCRIPTION | D4: UNIT | E4: QTY | F4: RATE | G4: AMOUNT
A5: NO | B5: REFERS
G7: =IF($F7=" "," ",ROUND($E7*F7,2))
B8: SANS | C8: SITE CLEARANCE
B9: 1200 C
A10: 2.1. | B10: 8.2.1 | C10: Clear and grub
A11: 2.1.1 | C11: a) Contractor's Camp Area | D11: ha | E11: 1 | G11: =IF($F11=" "," ",ROUND($E11*F11,2))
A12: 2.1.2 | C12: b) Dam site area | D12: ha | E12: 2 | G12: =IF($F12=" "," ",ROUND($E12*F12,2))
A13: 2.1.3 | C13: c) Topsoil stockpile area | D13: ha | E13: 2 | G13: =IF($F13=" "," ",ROUND($E13*F13,2))
A14: 2.1.4 | C14: d) Temporary stockpile area adjacent to quarry/borrow area | D14: ha | E14: 0.5 | G14: =IF($F14=" "," ",ROUND($E14*F14,2))
A16: 2.1.5 | B16: 8.2.3 | C16: Remove and grub all trees and tree stumps irrespective of girth | D16: ha | E16: 2 | G16: =IF($F16=" "," ",ROUND($E16*F16,2))
B17: PSC 8.2.7 | C17: Dismantle and remove pipelines, electricity transmission lines, cables, etc.
C18: a) Pipework including couplings, valves etc outside dam of river diversion
A19: 2.1.6 | C19: 1) 900 mm dia steel pipe | D19: m | E19: 78 | G19: =IF($F19=" "," ",ROUND($E19*F19,2))
A20: 2.1.7 | C20: 2) 900 mm dia steel Couplings | D20: No | E20: 1 | G20: =IF($F20=" "," ",ROUND($E20*F20,2))
A21: 2.1.8 | C21: 3) 900 mm dia Specials (bends) | D21: No | E21: 3 | G21: =IF($F21=" "," ",ROUND($E21*F21,2))
B22: PSC 8.2.8 | C22: Demolish and remove structures/buildings and dismantle steelwork, etc.
A23: 2.1.9 | C23: a) Headwall on downstream side of river diversion pipes | D23: No | E23: 1 | G23: =IF($F23=" "," ",ROUND($E23*F23,2))
A25: 2.1.10 | B25: 8.2.10 | C25: Remove topsoil to a nominal depth of 150 mm and stockpile | D25: m³ | E25: 2000 | G25: =IF($F25=" "," ",ROUND($E25*F25,2))
B26: 1200D | C26: EARTHWORKS
B27: PSD
A28: 2.2. | B28: 8.3.2 | C28: Bulk Excavation
A29: 2.2.1 | C29: a) Excavate in all materials for construction of Hardfill dam | D29: m³ | E29: 23500 | G29: =IF($F29=" "," ",ROUND($E29*F29,2))
A30: 2.2.2 | C30: b) Excavate in all materials for diversion pipe on US and DS side of dam | D30: m³ | E30: 365 | G30: =IF($F30=" "," ",ROUND($E30*F30,2))
C31: c) Extra-over for:
A32: 2.2.3 | C32: 1) Hard-rock excavation | D32: m³ | E32: 1000 | G32: =IF($F32=" "," ",ROUND($E32*F32,2))
B33: 8.3.3 | C33: Restricted Excavation
A34: 2.2.4 | C34: a) Excavate in all material for construction of hardfill dam | D34: m³ | E34: 24070 | G34: =IF($F34=" "," ",ROUND($E34*F34,2))
C35: b) Extra-over for:
A36: 2.2.5 | C36: 1) Hard-rock excavation | D36: m³ | E36: 22800 | G36: =IF($F36=" "," ",ROUND($E36*F36,2))
B37: 8.3.9 | C37: Extra Over for Backfill of Fill materials against structures
A38: 2.2.6 | C38: a) Random backfill from stockpile on d/s side of dam | D38: m³ | E38: 22550 | G38: =IF($F38=" "," ",ROUND($E38*F38,2))
A40: CARRIED FORWARD | G40: =IF(SUM(G7:G39)=0,"",SUM(G7:G39))
A43: =+A2 -> PART 2: SITE CLEARING, EXCAVATION AND EARTHWORKS
A45: ITEM | B45: PAYMENT | C45: DESCRIPTION | D45: UNIT | E45: QTY | F45: RATE | G45: AMOUNT
A46: NO | B46: REFERS
A47: BROUGHT FORWARD | G47: =IF(G40="","",G40)
B48: 8.3.10 | C48: Topsoiling
A49: 2.2.7 | C49: a) Contractor's Camp Area, 150 mm depth | D49: m² | E49: 10000 | G49: =IF($F49=" "," ",ROUND($E49*F49,2))
A50: 2.2.8 | C50: b) Downstream backfill of dam, 150 mm depth | D50: m² | E50: 3300 | G50: =IF($F50=" "," ",ROUND($E50*F50,2))
A51: 2.2.9 | C51: c) Topsoil stockpile area, 150 mm depth | D51: m² | E51: 20000 | G51: =IF($F51=" "," ",ROUND($E51*F51,2))
A52: 2.2.10 | C52: d) Temporary stockpile area adjacent to quarry/borrow area, 150 mm depth | D52: m² | E52: 5000 | G52: =IF($F52=" "," ",ROUND($E52*F52,2))
B53: 8.3.11 | C53: Grassing or other Vegetation Cover
A54: 2.2.11 | C54: a) Contractor's Camp Area | D54: m² | E54: 10000 | G54: =IF($F54=" "," ",ROUND($E54*F54,2))
A55: 2.2.12 | C55: b) Downstream backfill of dam | D55: m² | E55: 3300 | G55: =IF($F55=" "," ",ROUND($E55*F55,2))
A56: 2.2.13 | C56: c) Topsoil stockpile area | D56: m² | E56: 20000 | G56: =IF($F56=" "," ",ROUND($E56*F56,2))
A57: 2.2.14 | C57: d) Temporary stockpile area adjacent to quarry/borrow area | D57: m² | E57: 5000 | G57: =IF($F57=" "," ",ROUND($E57*F57,2))
B58: PSD 8.3.14 | C58: Foundation preparation
A59: 2.2.15 | C59: Foundation preparation below dam footprint including plinth block (#) | D59: m² | E59: 11200 | G59: =IF($F59=" "," ",ROUND($E59*F59,2))
B60: PSD 8.3.15 | C60: Treatment of Joints
A61: 2.2.16 | C61: a) Cement mortar | D61: m³ | E61: 250 | G61: =IF($F61=" "," ",ROUND($E61*F61,2))
A62: 2.2.17 | C62: b) Cement grout | D62: m³ | E62: 250 | G62: =IF($F62=" "," ",ROUND($E62*F62,2))
A63: 2.2.18 | C63: c) Dental concrete | D63: m³ | E63: 150 | G63: =IF($F63=" "," ",ROUND($E63*F63,2))
B64: SANS | C64: SMALL EARTH DAMS
B65: 1200 DE
A66: 2.3. | B66: 8.3.6 | C66: Toe drain, Complete Construction
A67: 2.3.1 | C67: a) Complete construction of drain d/s of right abutment as indicated on drawings | D67: m | E67: 30 | G67: =IF($F67=" "," ",ROUND($E67*F67,2))
B68: SANS | C68: SEWERS
B69: 1200 LD
A70: 2.4. | B70: 8.2.1 | C70: Supply, Lay, Joint, Bed and test pipeline
A71: 2.4.1 | C71: a) 160 mm dia UPCV drainage pipe Class 6, complete with bedding class C at drain d/s of right abutment | D71: m | E71: 200 | G71: =IF($F71=" "," ",ROUND($E71*F71,2))
B72: SANS | C72: BEDDING
B73: 1200 LB
A74: 2.5. | C74: Supply only of Bedding by Importations
B75: 8.2.2.1 | C75: From other necessary excavations
A76: 2.5.1 | C76: a) Selected Fill material - Class C | D76: m³ | E76: 120 | G76: =IF($F76=" "," ",ROUND($E76*F76,2))
B77: 8.2.2.2 | C77: From borrow pits
A78: 2.5.2 | C78: a) Selected granular material - Class C | D78: m³ | E78: 120 | G78: =IF($F78=" "," ",ROUND($E78*F78,2))
A80: CARRIED FORWARD | G80: =IF(SUM(G47:G79)=0,"",SUM(G47:G79))
A83: =+A2 -> PART 2: SITE CLEARING, EXCAVATION AND EARTHWORKS
A85: ITEM | B85: PAYMENT | C85: DESCRIPTION | D85: UNIT | E85: QTY | F85: RATE | G85: AMOUNT
A86: NO | B86: REFERS
A87: BROUGHT FORWARD | G87: =IF(G80="","",G80)
B88: COTO | C88: CHAPTER 12 GEOTECHNICAL
A89: 2.6. | B89: C12.2.13 | C89: Establishment on site for drilling of rockbolts, dowels, soil nails or mechanical anchors
A90: 2.6.1 | C90: a) Establishment for drilling of rockbolts on right abutment | D90: LS | E90: 1 | G90: =IF($F90=" "," ",ROUND($E90*F90,2))
B91: C12.2.14 | C91: Move to and set up at each rockbolt, soil nail or mechanical anchor position
A92: 2.6.2 | C92: a) Set up at rockbolt positions at right abutment | D92: No | E92: 200 | G92: =IF($F92=" "," ",ROUND($E92*F92,2))
B93: C12.2.15 | C93: Install, grout and protect soil nails or rock bolts
A94: 2.6.3 | C94: a) Rock bolts, 12 m long TB500 25 mm galvanised bars, 114 mm dia hole | D94: No | E94: 100 | G94: =IF($F94=" "," ",ROUND($E94*F94,2))
A95: 2.6.4 | C95: b) Self-drilling anchor, 12 m long Titan 40/16 with 90 mm dia sacrificial bit | D95: No | E95: 100 | G95: =IF($F95=" "," ",ROUND($E95*F95,2))
B96: C12.2.16 | C96: Extra over for tensioning soil nails or rockbolts
A97: 2.6.5 | C97: a) Rock bolts, 12 m long TB500 25 mm galvanised bars, 114 mm dia hole | D97: No | E97: 10 | G97: =IF($F97=" "," ",ROUND($E97*F97,2))
A98: 2.6.6 | C98: b) Self-drilling anchor, 12 m long Titan 40/16 with 90 mm dia sacrificial bit | D98: No | E98: 10 | G98: =IF($F98=" "," ",ROUND($E98*F98,2))
B99: C12.5.1 | C99: Establishment on site
A100: 2.7.1 | C100: Establishment on site for right abutment shotcrete | D100: LS | E100: 1 | G100: =IF($F100=" "," ",ROUND($E100*F100,2))
B101: C12.5.2 | C101: Surface preparation for shotcrete
A102: 2.7.2 | C102: Surface preparation for shotcrete | D102: m² | E102: 470 | G102: =IF($F102=" "," ",ROUND($E102*F102,2))
B103: C12.5.3 | C103: Supply and installation of reinforcement
A104: 2.7.3 | B104: C12.5.3.2 | C104: Welded steel mesh fabric, Ref 395 | D104: m² | E104: 470 | G104: =IF($F104=" "," ",ROUND($E104*F104,2))
B105: C12.5.4 | C105: Shotcrete
A106: 2.7.4 | B106: C12.5.4.1 | C106: Flash/base coat, 75 mm thick | D106: m² | E106: 470 | G106: =IF($F106=" "," ",ROUND($E106*F106,2))
A107: 2.7.5 | B107: C12.5.4.2 | C107: Intermediate coat (75 mm thick) | D107: m² | E107: 470 | G107: =IF($F107=" "," ",ROUND($E107*F107,2))
B108: C12.5.7 | C108: Geopipe collectors and weepholes
A109: 2.7.6 | B109: C12.5.7.1 | C109: Perforated HDPE drain pipe wrapped in 110 mm BIDIM A4 sock, 12 m long | D109: m | E109: 1230 | G109: =IF($F109=" "," ",ROUND($E109*F109,2))
B110: C12.5.8 | C110: Geocomposite/geosynthetic drain as specified
A111: 2.7.7 | B111: C12.5.7.1 | C111: Band drains, Netlon DN3 strips 100 mm wide @1.75 m spacing | D111: m | E111: 350 | G111: =IF($F111=" "," ",ROUND($E111*F111,2))
B112: C12.8.4 | C112: Moving to and setting up equipment for installing each drain position
A113: 2.7.8 | C113: 110 mm dia drilled at 5 deg from horizontal, 12 m long | D113: No | E113: 110 | G113: =IF($F113=" "," ",ROUND($E113*F113,2))
...

Sheet A
A2: PART A: DIVERSION WORKS
A4: ITEM | B4: PAYMENT | C4: DESCRIPTION | D4: UNIT | E4: QTY | F4: RATE | G4: AMOUNT
A5: NO | B5: REFERS
B8: SANS
B9: 1200 D | C9: EARTHWORKS
B10: PSD
A11: A.1. | B11: 8.3.2 | C11: Bulk Excavation
A12: A.1.1 | C12: a) Excavate in all materials for removal of diversion embankment | D12: m³ | E12: 4600 | G12: =IF($F12=" "," ",ROUND($E12*F12,2))
B14: SANS | C14: EARTHWORKS (PIPE TRENCHES)
B15: 1200 DB
B16: PSDB
A17: A.2. | B17: 8.3.2 | C17: Excavate in all materials for trenches, backfill, compact and dispose of surplus material
C18: 900 mm dia in trench
A19: A.2.1 | C19: a) Excavation length exceeding 0 m, but not 1 m in depth | D19: m | E19: 10 | G19: =IF($F19=" "," ",ROUND($E19*F19,2))
A20: A.2.2 | C20: b) Excavation length exceeding 1 m, but not 2 m in depth | D20: m | E20: 6 | G20: =IF($F20=" "," ",ROUND($E20*F20,2))
A21: A.2.3 | C21: a) Excavation length exceeding 2 m, but not 3 m in depth | D21: m | E21: 16 | G21: =IF($F21=" "," ",ROUND($E21*F21,2))
A22: A.2.4 | C22: b) Excavation length exceeding 3 m, but not 4 m in depth | D22: m | E22: 11 | G22: =IF($F22=" "," ",ROUND($E22*F22,2))
A23: A.2.5 | C23: c) Excavation length exceeding 4 m, but not 5 m in depth | D23: m | E23: 9 | G23: =IF($F23=" "," ",ROUND($E23*F23,2))
A24: A.2.6 | C24: d) Excavation length exceeding 5 m, but not 6 m in depth | D24: m | E24: 6 | G24: =IF($F24=" "," ",ROUND($E24*F24,2))
A25: A.2.7 | C25: e) Excavation length exceeding 6 m, but not 7 m in depth | D25: m | E25: 24 | G25: =IF($F25=" "," ",ROUND($E25*F25,2))
B27: 8.3.3 | C27: Extra over
A28: A.2.8 | C28: Soft rock excavation | D28: m³ | E28: 50 | G28: =IF($F28=" "," ",ROUND($E28*F28,2))
B30: SANS | C30: SMALL EARTH DAMS
B31: 1200 DE
A33: A.3. | B33: 8.3.5 | C33: Forming Embankment
A34: A.3.1 | C34: a) Selected Impervious material from borrow area | D34: m³ | E34: 1250 | G34: =IF($F34=" "," ",ROUND($E34*F34,2))
A35: A.3.2 | C35: b) Gravel capping from commercial source | D35: m³ | E35: 75 | G35: =IF($F35=" "," ",ROUND($E35*F35,2))
A36: A.3.3 | B36: PSDE 8.3.5 | C36: c) Rockfill from quarry | D36: m³ | E36: 3250 | G36: =IF($F36=" "," ",ROUND($E36*F36,2))
A38: CARRIED FORWARD | G38: =IF(SUM(G7:G37)=0,"",SUM(G7:G37))
A41: =+A2 -> PART A: DIVERSION WORKS
A43: ITEM | B43: PAYMENT | C43: DESCRIPTION | D43: UNIT | E43: QTY | F43: RATE | G43: AMOUNT
A44: NO | B44: REFERS
A45: BROUGHT FORWARD | G45: =IF(G38="","",G38)
B46: SANS
B47: 1200 H | C47: STRUCTURAL STEELWORK
A49: A.4. | B49: 8.3.1 | C49: Supply and Fabrication
A50: A.4.1 | C50: a) Trash rack, according to dwg 7474-042 | D50: No | E50: 1 | G50: =IF($F50=" "," ",ROUND($E50*F50,2))
A52: A.5. | B52: 8.3.2 | C52: Delivery to site
A53: A.5.1 | C53: a) Trash rack, according to dwg 7474-042 | D53: No | E53: 1 | G53: =IF($F53=" "," ",ROUND($E53*F53,2))
A55: A.6. | B55: 8.3.3 | C55: Erection on site
A56: A.6.1 | C56: a) Trash rack, according to dwg 7474-042 | D56: No | E56: 1 | G56: =IF($F56=" "," ",ROUND($E56*F56,2))
A58: A.7. | B58: SANS | C58: BEDDING OF PIPES
B59: 1200 LB
A61: A.7.1 | B61: 8.2.1 | C61: Provision of bedding from Trench Excavation
A62: A.7.2 | C62: a) Selected Fill material - Bedding Class C | D62: m³ | E62: 90 | G62: =IF($F62=" "," ",ROUND($E62*F62,2))
C64: Supply only of bedding by Importation
B65: 8.2.2.2 | C65: From borrow pits
C66: a) Selected granular material - Class C | D66: m³ | E66: 50 | G66: =IF($F66=" "," ",ROUND($E66*F66,2))
B68: SANS | C68: SEWERS
B69: 1200 LD
A71: A.8. | B71: 8.2.5 | C71: Inspection Chambers
A72: A.8.1 | C72: a) Head wall at diversion intake (LI) | D72: No | E72: 1 | G72: =IF($F72=" "," ",ROUND($E72*F72,2))
A73: A.8.2 | C73: b) Head wall at diversion outlet (LI) | D73: No | E73: 1 | G73: =IF($F73=" "," ",ROUND($E73*F73,2))
A74: A.8.19
A75: A.8.20 | B75: SANS | C75: MEDIUM-PRESSURE PIPELINES
B76: 1200 L
A77: A.9. | C77: Straight pipes - All pipes and specials to be mild steel, 350W Copon, unless otherwise indicated
A78: A.9.1 | B78: 8.2.5 | C78: a) 900 mm dia pipe, 9 m length | D78: No | E78: 6 | G78: =IF($F78=" "," ",ROUND($E78*F78,2))
A79: A.9.2 | C79: b) 900 mm dia pipe, 8.875 m length | D79: No | E79: 1 | G79: =IF($F79=" "," ",ROUND($E79*F79,2))
A80: A.9.3 | C80: c) 900 mm dia pipe, 2.620 m length | D80: No | E80: 1 | G80: =IF($F80=" "," ",ROUND($E80*F80,2))
A81: A.9.4 | C81: d) 900 mm dia pipe, 5.110 m length with restraining flange | D81: No | E81: 1 | G81: =IF($F81=" "," ",ROUND($E81*F81,2))
A82: A.9.5 | C82: e) 900 mm dia pipe, 0.25 m length with restraining flange | D82: No | E82: 1 | G82: =IF($F82=" "," ",ROUND($E82*F82,2))
A83: A.9.6 | C83: f) 900 mm dia pipe, 2.675 m length with restraining flange | D83: No | E83: 1 | G83: =IF($F83=" "," ",ROUND($E83*F83,2))
A85: CARRIED FORWARD | G85: =IF(SUM(G45:G84)=0,"",SUM(G45:G84))
A88: =+A2 -> PART A: DIVERSION WORKS
A90: ITEM | B90: PAYMENT | C90: DESCRIPTION | D90: UNIT | E90: QTY | F90: RATE | G90: AMOUNT
A91: NO | B91: REFERS
A92: BROUGHT FORWARD | G92: =IF(G85="","",G85)
C94: Valves and specials
A95: A.9.7 | B95: 8.2.5 | C95: a) 900 mm dia 40 degree medium radius bend | D95: No | E95: 1 | G95: =IF($F95=" "," ",ROUND($E95*F95,2))
A96: A.9.8 | C96: b) 900 mm dia 45 degree medium radius bend | D96: No | E96: 1 | G96: =IF($F96=" "," ",ROUND($E96*F96,2))
A97: A.9.9 | C97: c) 900 mm dia Arpol couplings, Stainless steel | D97: No | E97: 1 | G97: =IF($F97=" "," ",ROUND($E97*F97,2))
A98: A.9.10 | C98: d) 900 mm dia Medium radius 75 degree bend | D98: No | E98: 1 | G98: =IF($F98=" "," ",ROUND($E98*F98,2))
A99: A.9.11 | C99: e) 450 mm dia blank flange | D99: No | E99: 1 | G99: =IF($F99=" "," ",ROUND($E99*F99,2))
A100: A.9.12 | C100: f) 900 mm dia blank flange | D100: No | E100: 1 | G100: =IF($F100=" "," ",ROUND($E100*F100,2))
B102: SANS | C102: GABIONS AND PITCHING
B103: 1200 DK
A104: A.10. | B104: 8.2.4 | C104: Geotextile
A105: A.10.1 | C105: a) Non-woven NW6 geotextile (LI) | D105: m² | E105: 890 | G105: =IF($F105=" "," ",ROUND($E105*F105,2))
C108: To be transferred to Item 1.4.8 (PSA 8.8.7) | D108: Sum | G108: =IF(SUM(G92:G107)=0,"",SUM(G92:G107))
C110: NOT RE-MEASURABLE

Sheet 3
A2: PART 3: FOUNDATION DRILLING AND GROUTING
A4: ITEM | B4: PAYMENT | C4: DESCRIPTION | D4: UNIT | E4: QTY | F4: RATE | G4: AMOUNT
A5: NO | B5: REFERS
B8: PPS 9 | C8: DRILLING AND GROUTING
A9: 3.1. | B9: PPS 9.14.1 | C9: Setting up equipment for drilling grout and drainage holes
A10: 3.1.1 | C10: a) Percussion Drilling Rig for grouting | D10: No | E10: 200 | G10: =IF($F10=" "," ",ROUND($E10*F10,2))
A11: 3.1.2 | C11: b) Percussion Drilling Rig for foundation drainage | D11: No | E11: 200 | G11: =IF($F11=" "," ",ROUND($E11*F11,2))
A12: 3.1.3 | C12: c) Percussion Drilling Rig for dam drainage at spillway | D12: No | E12: 20 | G12: =IF($F12=" "," ",ROUND($E12*F12,2))
A13: 3.1.4 | C13: d) Rotary core Drilling Rigs for inspection | D13: No | E13: 2 | G13: =IF($F13=" "," ",ROUND($E13*F13,2))
A14: 3.1.5 | C14: e) Percussion Drilling Rigs for grouting through hardfill in dam | D14: No | E14: 5 | G14: =IF($F14=" "," ",ROUND($E14*F14,2))
A15: 3.1.6 | C15: f) Percussion Drilling Rigs for drainage through hardfill in dam | D15: No | E15: 6 | G15: =IF($F15=" "," ",ROUND($E15*F15,2))
A16: 3.2. | B16: PPS 9.14.2 | C16: Drilling of grout and drainage holes | G16: =IF($F16=" "," ",ROUND($E16*F16,2))
A17: 3.2.1 | C17: a) Percussion Drilling for grouting, 0-25 m, 0-30 deg | D17: m | E17: 1500 | G17: =IF($F17=" "," ",ROUND($E17*F17,2))
A18: 3.2.2 | C18: b) Percussion Drilling for grouting, 25-50 m, 0-30 deg | D18: m | E18: 1000 | G18: =IF($F18=" "," ",ROUND($E18*F18,2))
A19: 3.2.3 | C19: c) Percussion Drilling for drainage, 0-25 m, 0-30 deg | D19: m | E19: 1650 | G19: =IF($F19=" "," ",ROUND($E19*F19,2))
A20: 3.2.4 | C20: d) Percussion Drilling for dam drainage at spillway, 0-25 m, 0-30 deg | D20: m | E20: 560 | G20: =IF($F20=" "," ",ROUND($E20*F20,2))
A21: 3.2.5 | C21: e) Rotary core drilling inspection, 0-25 m,0-30 deg | D21: m | E21: 50 | G21: =IF($F21=" "," ",ROUND($E21*F21,2))
A22: 3.2.6 | C22: f) Percussion drilling for drainage through hardfill in dam, 25-50 m,0-30 deg | D22: m | E22: 130 | G22: =IF($F22=" "," ",ROUND($E22*F22,2))
A23: 3.3. | B23: PPS 9.14.3 | C23: Re-drilling of grouted holes | G23: =IF($F23=" "," ",ROUND($E23*F23,2))
A24: 3.3.1 | C24: a) Re-drilling for grouting, 0-30 deg | D24: m | E24: 45 | G24: =IF($F24=" "," ",ROUND($E24*F24,2))
A25: 3.4. | B25: PPS 9.14.4 | C25: Water pressure tests | G25: =IF($F25=" "," ",ROUND($E25*F25,2))
A26: 3.4.1 | C26: a) Abbreviated water pressure tests | D26: No | E26: 307.5 | G26: =IF($F26=" "," ",ROUND($E26*F26,2))
A27: 3.4.2 | C27: b) Full water pressure tests | D27: No | E27: 102.5 | G27: =IF($F27=" "," ",ROUND($E27*F27,2))
A28: 3.5. | B28: PPS 9.14.7 | C28: Curtain grouting | G28: =IF($F28=" "," ",ROUND($E28*F28,2))
A29: 3.5.1 | C29: Pre stage Curtain Grouting | D29: No | E29: 200 | G29: =IF($F29=" "," ",ROUND($E29*F29,2))
A30: 3.5.2 | C30: 1st Stage Curtain Grouting | D30: No | E30: 200 | G30: =IF($F30=" "," ",ROUND($E30*F30,2))
A31: 3.5.3 | C31: 2nd Stage Curtain Grouting | D31: No | E31: 70 | G31: =IF($F31=" "," ",ROUND($E31*F31,2))
A32: 3.5.4 | C32: 3rd Stage Curtain Grouting | D32: No | E32: 60 | G32: =IF($F32=" "," ",ROUND($E32*F32,2))
A33: 3.5.5 | C33: 4th Stage Curtain Grouting | D33: No | E33: 50 | G33: =IF($F33=" "," ",ROUND($E33*F33,2))
A34: 3.5.6 | C34: 5th Stage Curtain Grouting | D34: No | E34: 30 | G34: =IF($F34=" "," ",ROUND($E34*F34,2))
A35: 3.5.7 | C35: 6th Stage Curtain Grouting | D35: No | E35: 15 | G35: =IF($F35=" "," ",ROUND($E35*F35,2))
A37: CARRIED FORWARD | G37: =IF(SUM(G8:G36)=0,"",SUM(G8:G36))
A40: =+A2 -> PART 3: FOUNDATION DRILLING AND GROUTING
A42: ITEM | B42: PAYMENT | C42: DESCRIPTION | D42: UNIT | E42: QTY | F42: RATE | G42: AMOUNT
A43: NO | B43: REFERS
A44: BROUGHT FORWARD | G44: =IF(G37="","",G37)
A46: 3.6. | B46: PPS 9.14.8 | C46: Grouting materials
A47: 3.6.1 | C47: a) CEM 1 cement | D47: t | E47: 32 | G47: =IF($F47=" "," ",ROUND($E47*F47,2))
A48: 3.6.2 | C48: b) Bentonite | D48: t | E48: 0.96 | G48: =IF($F48=" "," ",ROUND($E48*F48,2))
G49: =IF($F49=" "," ",ROUND($E49*F49,2))
A50: 3.7.1 | B50: PPS 9.14.9 | C50: Grouting additives | D50: PS | E50: 1 | F50: 250000 | G50: =IF($F50=" "," ",ROUND($E50*F50,2)) -> 250000
G51: =IF($F51=" "," ",ROUND($E51*F51,2))
A52: 3.8. | B52: PPS 9.14.10 | C52: Casings | G52: =IF($F52=" "," ",ROUND($E52*F52,2))
A53: 3.8.1 | C53: a) Casings for percussion drilling through soil | D53: m | E53: 50 | G53: =IF($F53=" "," ",ROUND($E53*F53,2))
A54: 3.8.2 | C54: b) EO for permanent casings | D54: m | E54: 30 | G54: =IF($F54=" "," ",ROUND($E54*F54,2))
A55: 3.9. | B55: PPS 9.14.11 | C55: Recovery of cores | G55: =IF($F55=" "," ",ROUND($E55*F55,2))
A56: 3.9.1 | C56: a) Core recovery | D56: m | E56: 50 | G56: =IF($F56=" "," ",ROUND($E56*F56,2))
A57: 3.9.2 | C57: b) Core boxes | D57: No | E57: 10 | G57: =IF($F57=" "," ",ROUND($E57*F57,2))
A58: 3.10. | B58: PPS 9.14.14 | C58: Sleeve Pipes | G58: =IF($F58=" "," ",ROUND($E58*F58,2))
A59: 3.10.1 | C59: a) 80 mm dia PVC sleeve pipe cast into plinth | D59: m | E59: 120 | G59: =IF($F59=" "," ",ROUND($E59*F59,2))
A60: 3.10.2 | C60: b) 80 mm dia PVC sleeve cast into intake tower base | D60: m | E60: 25 | G60: =IF($F60=" "," ",ROUND($E60*F60,2))
A63: CARRIED FORWARD TO SUMMARY | G63: =IF(SUM(G44:G60)=0,"",SUM(G44:G60)) -> 250000

Sheet 4
A2: PART 4: HARDFILL DAM WITH CONCRETE UPSTREAM FACING
A4: ITEM | B4: PAYMENT | C4: DESCRIPTION | D4: UNIT | E4: QTY | F4: RATE | G4: AMOUNT
A5: NO | B5: REFERS
B7: SANS | C7: CONCRETE (STRUCTURAL)
B8: 1200G
A9: 4.1. | B9: PSG | C9: Scheduled Formwork
B10: 8.2.1 | C10: Rough
A11: 4.1.1 | C11: a) Upstream vertical steps of hardfill dam, inclusive of anchorage into Hardfill | D11: m² | E11: 4900 | G11: =IF($F11=" "," ",ROUND($E11*F11,2))
A12: 4.1.2 | C12: b) Downstream vertical steps of hardfill below backfill, inclusive of anchorage into Hardfill | D12: m² | E12: 1250 | G12: =IF($F12=" "," ",ROUND($E12*F12,2))
A13: 4.1.3 | C13: c) Sides of joints in crest | D13: m² | E13: 35 | G13: =IF($F13=" "," ",ROUND($E13*F13,2))
A14: 4.1.4 | C14: d) Sides of joints in upstream reinforced concrete facing | D14: m² | E14: 200 | G14: =IF($F14=" "," ",ROUND($E14*F14,2))
A15: 4.1.5 | C15: e) Sides of joints in plinth block | D15: m² | E15: 100 | G15: =IF($F15=" "," ",ROUND($E15*F15,2))
A16: 4.1.6 | C16: f) Sides of joints in levelling concrete | D16: m² | E16: 425 | G16: =IF($F16=" "," ",ROUND($E16*F16,2))
G17: =IF($F17=" "," ",ROUND($E17*F17,2))
A18: 4.2. | B18: 8.2.2 | C18: Smooth | G18: =IF($F18=" "," ",ROUND($E18*F18,2))
A19: 4.2.1 | C19: a) Upstream and downstream crest concrete including kicker | D19: m² | E19: 520 | G19: =IF($F19=" "," ",ROUND($E19*F19,2))
A20: 4.2.2 | C20: b) Vertical exposed faces of spillway steps D/S | D20: m² | E20: 970 | G20: =IF($F20=" "," ",ROUND($E20*F20,2))
A21: 4.2.3 | C21: c) Vertical exposed upstream and downstream face of NOC | D21: m² | E21: 2900 | G21: =IF($F21=" "," ",ROUND($E21*F21,2))
A22: 4.2.4 | C22: d) Sloped face of plinth block | D22: m² | E22: 1210 | G22: =IF($F22=" "," ",ROUND($E22*F22,2))
A23: 4.2.5 | C23: e) Upstream end of plinth | D23: m² | E23: 165 | G23: =IF($F23=" "," ",ROUND($E23*F23,2))
A24: 4.2.6 | C24: f) Downstream face of longitudinal gallery | D24: m² | E24: 970 | G24: =IF($F24=" "," ",ROUND($E24*F24,2))
A25: 4.2.7 | C25: g) Downstream vertical face of hardfill dam above backfill, inclusive of anchorage into Hardfill | D25: m² | E25: 2910 | G25: =IF($F25=" "," ",ROUND($E25*F25,2))
A27: 4.3. | B27: 8.2.5 | C27: Narrow Widths
A28: 4.3.1 | C28: a) Grooves in GEVR steps, 250 mm wide on each step according to drawings | D28: m | E28: 1680 | G28: =IF($F28=" "," ",ROUND($E28*F28,2))
A29: 4.3.2 | C29: b) Gallery drain side , 300 mm wide | D29: m | E29: 325 | G29: =IF($F29=" "," ",ROUND($E29*F29,2))
A31: 4.4. | B31: PSG 8.2.7 | C31: Sliding Formwork
A32: 4.4.1 | C32: a) Upstream reinforced concrete slab | D32: m² | E32: 7130 | G32: =IF($F32=" "," ",ROUND($E32*F32,2))
B34: 8.3 | C34: Scheduled Reinforcement Items
A35: 4.5. | B35: 8.3.1 | C35: Steel bars
A36: 4.5.1 | C36: High tensile steel bars
A37: 4.5.2 | C37: a) Plinth block reinforcement | D37: t | E37: 450 | G37: =IF($F37=" "," ",ROUND($E37*F37,2))
A38: 4.5.3 | C38: b) NOC Crest Concrete reinforcement | D38: t | E38: 711 | G38: =IF($F38=" "," ",ROUND($E38*F38,2))
A39: 4.5.4 | C39: c) Lacing bars for dowel connection at spillway sidewall | D39: t | E39: 2 | G39: =IF($F39=" "," ",ROUND($E39*F39,2))
A40: 4.5.5 | C40: d) Upstream Slab Reinforcement | D40: t | E40: 444 | G40: =IF($F40=" "," ",ROUND($E40*F40,2))
A42: CARRIED FORWARD | G42: =IF(SUM(G7:G41)=0,"",SUM(G7:G41))
A45: =+A2 -> PART 4: HARDFILL DAM WITH CONCRETE UPSTREAM FACING
A47: ITEM | B47: PAYMENT | C47: DESCRIPTION | D47: UNIT | E47: QTY | F47: RATE | G47: AMOUNT
A48: NO | B48: REFERS
A49: BROUGHT FORWARD | G49: =IF(G42="","",G42)
A51: 4.6. | B51: PSG 8.3.4 | C51: Anchor rods (dowels)
A52: 4.6.1 | C52: a) 25 mm dia galvanized dowels at plinth | D52: t | E52: 16 | G52: =IF($F52=" "," ",ROUND($E52*F52,2))
A53: 4.6.2 | C53: b) 25 mm dia Dowels at spillway/sidewall connection | D53: t | E53: 1 | G53: =IF($F53=" "," ",ROUND($E53*F53,2))
A54: 4.6.3 | C54: c) 25 mm dia Dowels at hardfill/Ogee connection | D54: t | E54: 4 | G54: =IF($F54=" "," ",ROUND($E54*F54,2))
A55: 4.6.4 | C55: d) 25 mm dia Dowels at crest capping | D55: t | E55: 3 | G55: =IF($F55=" "," ",ROUND($E55*F55,2))
A57: 4.7. | B57: PSG 8.3.5 | C57: Spillway Facing Tie-Rod
A58: 4.7.1 | C58: a) 16 mm diameter high tensile threaded bar in downstream spillway as on drawings | D58: No | E58: 2850 | G58: =IF($F58=" "," ",ROUND($E58*F58,2))
C60: Scheduled Concrete Items
A61: 4.8. | B61: PSG 8.4.1 | C61: Prescribed Mix Concrete
A62: 4.8.1 | C62: a) No-fines concrete below face slab | D62: m³ | E62: 965 | G62: =IF($F62=" "," ",ROUND($E62*F62,2))
A63: 4.8.2 | C63: b) 20 mm thick mortar bed (1:5 Cement sand) | D63: m² | E63: 7110 | G63: =IF($F63=" "," ",ROUND($E63*F63,2))
A65: 4.9. | B65: 8.4.3 | C65: Strength Concrete
A66: 4.9.1 | C66: a) Mass concrete levelling concrete 20 MPa/19 mm | D66: m³ | E66: 3155 | G66: =IF($F66=" "," ",ROUND($E66*F66,2))
A67: 4.9.2 | C67: b) Reinforced concrete for plinth block 30 MPa/19 mm | D67: m³ | E67: 2960 | G67: =IF($F67=" "," ",ROUND($E67*F67,2))
A68: 4.9.3 | C68: c) Reinforced concrete for crest 30 MPa/19 mm | D68: m³ | E68: 355 | G68: =IF($F68=" "," ",ROUND($E68*F68,2))
A69: 4.9.4 | C69: d) Mass concrete infilling 20 MPa/19 mm downstream of gallery access and between dam and access | D69: m³ | E69: 310 | G69: =IF($F69=" "," ",ROUND($E69*F69,2))
A70: 4.9.5 | C70: e) Spillway downstream steps Grade 35 MPa/19 mm | D70: m³ | E70: 620 | G70: =IF($F70=" "," ",ROUND($E70*F70,2))
A71: 4.9.6 | C71: f) Mass concrete d/s of spillway gallery Grade 20 MPa/19 mm | D71: m³ | E71: 60 | G71: =IF($F71=" "," ",ROUND($E71*F71,2))
A72: 4.9.7 | C72: f) Mass concrete in longitudinal gallery floor Grade 20 Mpa/19 mm | D72: m³ | E72: 245 | G72: =IF($F72=" "," ",ROUND($E72*F72,2))
A73: 4.9.8 | C73: h) Mass concrete around diversion pipe Grade 20 Mpa/19 mm | D73: m³ | E73: 150 | G73: =IF($F73=" "," ",ROUND($E73*F73,2))
A74: 4.9.9 | C74: i) Mass concrete for waterstop anchorage Grade 20 Mpa/19 mm | D74: m³ | E74: 20 | G74: =IF($F74=" "," ",ROUND($E74*F74,2))
A76: CARRIED FORWARD | G76: =IF(SUM(G49:G75)=0,"",SUM(G49:G75))
A79: =+A2 -> PART 4: HARDFILL DAM WITH CONCRETE UPSTREAM FACING
A81: ITEM | B81: PAYMENT | C81: DESCRIPTION | D81: UNIT | E81: QTY | F81: RATE | G81: AMOUNT
A82: NO | B82: REFERS
A83: BROUGHT FORWARD | G83: =IF(G76="","",G76)
A85: 4.10. | B85: 8.4.4 | C85: Unformed Surface Finishes
A86: 4.10.1 | C86: a) Steel-Floated Finish to plinth | D86: m² | E86: 935 | G86: =IF($F86=" "," ",ROUND($E86*F86,2))
A87: 4.10.2 | C87: b) Steel Floated Finish to crest concrete | D87: m² | E87: 1630 | G87: =IF($F87=" "," ",ROUND($E87*F87,2))
A88: 4.10.3 | C88: c) Steel-Floated Finish to Spillway downstream steps | D88: m² | E88: 470 | G88: =IF($F88=" "," ",ROUND($E88*F88,2))
A89: 4.10.4 | C89: d) Steel-Floated Finish to Spillway Coping | D89: m² | E89: 155 | G89: =IF($F89=" "," ",ROUND($E89*F89,2))
A90: 4.10.5 | C90: e) Steel-Floated Finish to horizontal upstream and downstream steps | D90: m² | E90: 5800 | G90: =IF($F90=" "," ",ROUND($E90*F90,2))
A91: 4.10.6 | C91: f) Steel-floated finish to levelling concrete top | D91: m² | E91: 5950 | G91: =IF($F91=" "," ",ROUND($E91*F91,2))
A92: 4.10.7 | C92: g) Steel floated finish to longitudinal gallery floor and drain | D92: m² | E92: 805 | G92: =IF($F92=" "," ",ROUND($E92*F92,2))
A93: 4.10.8 | C93: h) Steel floated finish to top of river diversion encasement | D93: m² | E93: 100 | G93: =IF($F93=" "," ",ROUND($E93*F93,2))
A95: 4.11. | B95: PSG 8.5 | C95: Joints
A96: 4.11.1 | C96: a) Contraction joints at crest, 0.3 m deep | D96: m | E96: 140 | G96: =IF($F96=" "," ",ROUND($E96*F96,2))
A97: 4.11.2 | C97: b) Polyurethane joint sealer 10 x 20 mm at crest | D97: m | E97: 140 | G97: =IF($F97=" "," ",ROUND($E97*F97,2))
A98: 4.11.3 | C98: c) "0-32" Hydrofoil uPVC Centre Bulb waterstop from SIKA or equal approved at u/s NOC vertical crest and slab connection | D98: m | E98: 270 | G98: =IF($F98=" "," ",ROUND($E98*F98,2))
A99: 4.11.4 | C99: d) "0-32" Hydrofoil uPVC Centre Bulb waterstop from SIKA or equal approved at u/s slab vertical joints | D99: m | E99: 740 | G99: =IF($F99=" "," ",ROUND($E99*F99,2))
A100: 4.11.5 | C100: e) "DR-29" Hydrofoil uPVC Rearguard waterstop from SIKA or equal approved at u/s slab vertical joints | D100: m | E100: 740 | G100: =IF($F100=" "," ",ROUND($E100*F100,2))
A101: 4.11.6 | C101: f) "0-32" Hydrofoil uPVC Centre Bulb waterstop from SIKA or equal approved at u/s spillway and sloped slab connection | D101: m | E101: 40 | G101: =IF($F101=" "," ",ROUND($E101*F101,2))
A102: 4.11.7 | C102: g) "0-32" Hydrofoil uPVC Centre Bulb waterstop form SIKA or equal approved at plinth block and upstream face connection | D102: m | E102: 320 | G102: =IF($F102=" "," ",ROUND($E102*F102,2))
A103: 4.11.8 | C103: h) Polyurethane joint sealer 10 x 20 mm at vertical upstream NOC and sloped slab connection | D103: m | E103: 270 | G103: =IF($F103=" "," ",ROUND($E103*F103,2))
A104: 4.11.9 | C104: i) "DR-29" Hydrofoil uPVC Rearguard waterstop from SIKA or equal approved at plinth block and u/s slab connection | D104: m | E104: 320 | G104: =IF($F104=" "," ",ROUND($E104*F104,2))
A105: 4.11.10 | C105: i) 10 mm thick jointex at u/s NOC and sloped slab connection | D105: m | E105: 220 | G105: =IF($F105=" "," ",ROUND($E105*F105,2))
A107: CARRIED FORWARD | G107: =IF(SUM(G83:G106)=0,"",SUM(G83:G106))
A110: =+A2 -> PART 4: HARDFILL DAM WITH CONCRETE UPSTREAM FACING
A112: ITEM | B112: PAYMENT | C112: DESCRIPTION | D112: UNIT | E112: QTY | F112: RATE | G112: AMOUNT
A113: NO | B113: REFERS
A114: BROUGHT FORWARD | G114: =IF(G107="","",G107)
A116: 4.12. | B116: PSG 8.6 | C116: Manufacture and Erect Precast Elements
A117: 4.12.1 | C117: a) Side posts for crest balustrade | D117: No | E117: 3060 | G117: =IF($F117=" "," ",ROUND($E117*F117,2))
A118: 4.12.2 | C118: b) Precast Cap beam for balustrade | D118: No | E118: 280 | G118: =IF($F118=" "," ",ROUND($E118*F118,2))
A119: 4.12.3 | C119: c) 900 x 900 mm Precast Drainage Culvert | D119: m³ | E119: 11 | G119: =IF($F119=" "," ",ROUND($E119*F119,2))
A120: 4.12.4 | C120: d) 2800 x 1500 x 300mm deep Precast Roof elements for gallery | D120: m³ | E120: 235 | G120: =IF($F120=" "," ",ROUND($E120*F120,2))
A121: 4.12.5 | C121: e) Ventilation shaft, 900 mm dia ID at longitudinal gallery | D121: m³ | E121: 5 | G121: =IF($F121=" "," ",ROUND($E121*F121,2))
A123: 4.13. | B123: PSG 8.9 | C123: Building pipes into Concrete Work
A124: 4.13.1 | C124: a) 110 mm PVC T piece cast into concrete at gallery | D124: No | E124: 170 | G124: =IF($F124=" "," ",ROUND($E124*F124,2))
A125: 4.13.2 | C125: b) 90 mm HDPE Drainage pipes cast into NOC coping | D125: No | E125: 90 | G125: =IF($F125=" "," ",ROUND($E125*F125,2))
A126: 4.13.3 | C126: c) 900 mm dia river diversion pipe encased in concrete | D126: No | E126: 1 | G126: =IF($F126=" "," ",ROUND($E126*F126,2))
...

Sheet 5
A2: PART 5: INTAKE TOWER, ACCESS GALLERY, INCLUDING PIPEWORK
A4: ITEM | B4: PAYMENT | C4: DESCRIPTION | D4: UNIT | E4: QTY | F4: RATE | G4: AMOUNT
A5: NO | B5: REFERS
B8: SANS | C8: CONCRETE (STRUCTURAL)
B9: 1200G
B10: PSG | C10: Scheduled Formwork
A11: 5.1. | B11: 8.2.1 | C11: Rough
A12: 5.1.1 | C12: a) Inside faces of access gallery | D12: m² | E12: 270 | G12: =IF($F12=" "," ",ROUND($E12*F12,2))
A13: 5.1.2 | C13: b) Sump sides | D13: m² | E13: 1.5 | G13: =IF($F13=" "," ",ROUND($E13*F13,2))
B15: 8.2.2 | C15: Smooth
A16: 5.1.3 | C16: a) Vertical exposed faces of intake tower walls inside and outside | D16: m² | E16: 715 | G16: =IF($F16=" "," ",ROUND($E16*F16,2))
A17: 5.1.4 | C17: b) Vertical exposed faces of intake base inside and outside | D17: m² | E17: 460 | G17: =IF($F17=" "," ",ROUND($E17*F17,2))
A18: 5.1.5 | C18: c) Valve control room walls inside and outside | D18: m² | E18: 140 | G18: =IF($F18=" "," ",ROUND($E18*F18,2))
A19: 5.1.6 | C19: d) Valve access inside and outside | D19: m² | E19: 200 | G19: =IF($F19=" "," ",ROUND($E19*F19,2))
A20: 5.1.7 | C20: e) Concrete stairs inside access | D20: m² | E20: 15 | G20: =IF($F20=" "," ",ROUND($E20*F20,2))
A21: 5.1.8 | C21: f) Curved for gallery access | D21: m² | E21: 20 | G21: =IF($F21=" "," ",ROUND($E21*F21,2))
B23: 8.2.6 | C23: Box out holes/Form Voids
A24: 5.1.9 | C24: a) Large, other than circular, Box out for 900 x 600 mm louvre | D24: No | E24: 4 | G24: =IF($F24=" "," ",ROUND($E24*F24,2))
B26: 8.3 | C26: Scheduled Reinforcement Items
A27: 5.2. | B27: 8.3.1 | C27: Steel bars
C28: High tensile steel bars
A29: 5.2.1 | C29: a) Reinforcement for intake tower base | D29: t | E29: 56 | G29: =IF($F29=" "," ",ROUND($E29*F29,2))
A30: 5.2.2 | C30: b) Reinforcement for intake tower walls | D30: t | E30: 30 | G30: =IF($F30=" "," ",ROUND($E30*F30,2))
A31: 5.2.3 | C31: c) Reinforcement for valve room and access | D31: t | E31: 15 | G31: =IF($F31=" "," ",ROUND($E31*F31,2))
A33: 5.3. | B33: PSG 8.3.4 | C33: Anchor rods (dowels)
A34: 5.3.1 | C34: a) Y32 Galvanised Dowels with hooked end, 6 m deep into rock intake tower, vertical | D34: t | E34: 6.5 | G34: =IF($F34=" "," ",ROUND($E34*F34,2))
B36: 8.4 | C36: Scheduled Concrete Items
A37: 5.4. | B37: 8.4.3 | C37: Strength Concrete
A38: 5.4.1 | C38: a) Mass concrete 20 MPa/19 mm for intake tower base | D38: m³ | E38: 465 | G38: =IF($F38=" "," ",ROUND($E38*F38,2))
A39: 5.4.2 | C39: b) Reinforced concrete 30 MPa/19 mm for intake tower wall | D39: m³ | E39: 200 | G39: =IF($F39=" "," ",ROUND($E39*F39,2))
A40: 5.4.3 | C40: c) Reinforced concrete 30 MPa/19 mm for downstream valve room and access | D40: m³ | E40: 100 | G40: =IF($F40=" "," ",ROUND($E40*F40,2))
A41: 5.4.4 | C41: d) Mass concrete 20 Mpa/19 mm gallery access floor, including stairs | D41: m³ | E41: 80 | G41: =IF($F41=" "," ",ROUND($E41*F41,2))
A43: CARRIED FORWARD | G43: =IF(SUM(G8:G42)=0,"",SUM(G8:G42))
A46: =+A2 -> PART 5: INTAKE TOWER, ACCESS GALLERY, INCLUDING PIPEWORK
A48: ITEM | B48: PAYMENT | C48: DESCRIPTION | D48: UNIT | E48: QTY | F48: RATE | G48: AMOUNT
A49: NO | B49: REFERS
A50: BROUGHT FORWARD | G50: =IF(G43="","",G43)
A52: 5.5. | B52: 8.4.4 | C52: Unformed Surface Finishes
A53: 5.5.1 | C53: a) Steel-Floated Finish for intake tower base and roof | D53: m² | E53: 150 | G53: =IF($F53=" "," ",ROUND($E53*F53,2))
A54: 5.5.2 | C54: b) Steel-Floated Finish for valve control room floor and roof | D54: m² | E54: 175 | G54: =IF($F54=" "," ",ROUND($E54*F54,2))
A55: 5.5.3 | C55: c) Steel-Floated Finish gallery access floor and roof | D55: m² | E55: 300 | G55: =IF($F55=" "," ",ROUND($E55*F55,2))
A56: 5.5.4 | C56: d) Steel-Floated Finish for access stairs | D56: m² | E56: 30 | G56: =IF($F56=" "," ",ROUND($E56*F56,2))
A57: 5.5.5 | C57: e) Steel-Floated Finish for infilling behind gallery access | D57: m² | E57: 45 | G57: =IF($F57=" "," ",ROUND($E57*F57,2))
A59: 5.6. | B59: PSG 8.5 | C59: Joints
A60: 5.6.1 | C60: a) "0-32" Hydrofoil uPVC Centre Bulb waterstop from SIKA or equal approved at intake tower and upstream facing | D60: m | E60: 30 | G60: =IF($F60=" "," ",ROUND($E60*F60,2))
A62: 5.7. | B62: PSG 8.6 | C62: Manufacture and Erect Precast Elements
A63: 5.7.1 | C63: a) Precast valve chamber removable roof slabs | D63: m³ | E63: 2 | G63: =IF($F63=" "," ",ROUND($E63*F63,2))
A64: 5.7.2 | C64: b) Precast gallery access roof | D64: m³ | E64: 40 | G64: =IF($F64=" "," ",ROUND($E64*F64,2))
A65: 5.7.3 | C65: c) Precast valve chamber access roof | D65: m³ | E65: 12 | G65: =IF($F65=" "," ",ROUND($E65*F65,2))
A67: 5.8. | B67: PSG 8.9 | C67: Building pipes into Concrete Work
A68: 5.8.1 | C68: a) 600 mm Steel pipe cast into intake tower walls | D68: No | E68: 4 | G68: =IF($F68=" "," ",ROUND($E68*F68,2))
A69: 5.8.2 | C69: b) 600 mm Steel pipe cast into valve chamber walls | D69: No | E69: 2 | G69: =IF($F69=" "," ",ROUND($E69*F69,2))
B71: PPS 5.5 | C71: DOWEL BARS
A73: 5.9. | B73: PPS 5.5.1 | C73: Set up for drilling and grouting of holes
A74: 5.9.1 | C74: a) 76mm dia, vertical dowels at intake tower | D74: No | E74: 135 | G74: =IF($F74=" "," ",ROUND($E74*F74,2))
B76: PPS 5.5.2 | C76: Drilling of dowel holes
A77: 5.9.2 | C77: a) 76mm dia, vertical dowels at intake tower | D77: m | E77: 810 | G77: =IF($F77=" "," ",ROUND($E77*F77,2))
B79: PPS 5.5.2 | C79: Anchorage of dowel bars into drilled hole
A80: 5.9.3 | C80: a) 32mm dia dowels at intake tower, galvanized | D80: m | E80: 810 | G80: =IF($F80=" "," ",ROUND($E80*F80,2))
B82: 1200 L | C82: MEDIUM-PRESSURE PIPELINES
A84: 5.10. | B84: 8.2.1 | C84: Supply, Lay and bed pipes complete with couplings
A85: 5.10.1 | C85: a) 300 mm dia pipe UPVC pipe, class 9 for gallery drainage | D85: m | E85: 60 | G85: =IF($F85=" "," ",ROUND($E85*F85,2))
A88: CARRIED FORWARD | G88: =IF(SUM(G50:G87)=0,"",SUM(G50:G87))
A91: =+A2 -> PART 5: INTAKE TOWER, ACCESS GALLERY, INCLUDING PIPEWORK
A93: ITEM | B93: PAYMENT | C93: DESCRIPTION | D93: UNIT | E93: QTY | F93: RATE | G93: AMOUNT
A94: NO | B94: REFERS
A95: BROUGHT FORWARD | G95: =IF(G88="","",G88)
A96: 5.11. | B96: 8.2.5 | C96: Supply and Place Pipes, Valves and Specials (short runs)
C97: Straight pipes - All pipes and specials to be mild steel, flanged and 350W Copon, unless otherwise indicated
A98: 5.11.1 | C98: a) 600 mm dia pipe, 1.160 m length with puddle flange | D98: No | E98: 3 | G98: =IF($F98=" "," ",ROUND($E98*F98,2))
A99: 5.11.2 | C99: b) 600 mm dia pipe, 0.825 m length | D99: No | E99: 3 | G99: =IF($F99=" "," ",ROUND($E99*F99,2))
A100: 5.11.3 | C100: c) 600 mm dia pipe, 3.69 m length | D100: No | E100: 2 | G100: =IF($F100=" "," ",ROUND($E100*F100,2))
A101: 5.11.4 | C101: d) 600 mm dia pipe, 7.60 m length | D101: No | E101: 1 | G101: =IF($F101=" "," ",ROUND($E101*F101,2))
A102: 5.11.5 | C102: e) 600 mm dia pipe, 3.11 m length with 2 No puddle flanges | D102: No | E102: 1 | G102: =IF($F102=" "," ",ROUND($E102*F102,2))
A103: 5.11.6 | C103: f) 600 mm dia pipe, 1.265 m length | D103: No | E103: 1 | G103: =IF($F103=" "," ",ROUND($E103*F103,2))
A104: 5.11.7 | C104: g) 600 mm dia pipe, 0.775 m length | D104: No | E104: 1 | G104: =IF($F104=" "," ",ROUND($E104*F104,2))
A105: 5.11.8 | C105: h) 600 mm dia pipe, 9.0 m length | D105: No | E105: 6 | G105: =IF($F105=" "," ",ROUND($E105*F105,2))
A106: 5.11.9 | C106: i) 600 mm dia pipe, 1.085 m length | D106: No | E106: 1 | G106: =IF($F106=" "," ",ROUND($E106*F106,2))
A107: 5.11.10 | C107: j) 600 mm dia pipe, 3.29 m length with puddle flange | D107: No | E107: 1 | G107: =IF($F107=" "," ",ROUND($E107*F107,2))
A108: 5.11.11 | C108: k) 600 mm dia pipe, 3.07 m length with puddle flange | D108: No | E108: 1 | G108: =IF($F108=" "," ",ROUND($E108*F108,2))
A109: 5.11.12 | C109: l) 600 mm dia pipe, 5.0 m length with puddle flange | D109: No | E109: 1 | G109: =IF($F109=" "," ",ROUND($E109*F109,2))
... A112: 5.11.15 | C112: o) 150 mm dia pipe, 9.0 m length | D112: No | E112: 1 | G112: =IF($F112=" "," ",ROUND($E112*F112,2))
G113: =IF($F113=" "," ",ROUND($E113*F113,2))
A114: 5.12. | B114: 8.2.5 | C114: Valves and specials | G114: =IF($F114=" "," ",ROUND($E114*F114,2))
A115: 5.12.1 | C115: 600-150 mm dia stub 200 mm length, welded onto 600 mm dia flange | D115: No | E115: 1 | G115: =IF($F115=" "," ",ROUND($E115*F115,2))
A116: 5.12.2 | C116: 600 mm dia, 90 degrees sweep tee | D116: No | E116: 4 | G116: =IF($F116=" "," ",ROUND($E116*F116,2))
A117: 5.12.3 | C117: 600 mm dia Arpol Coupling or similar, stainless steel | D117: No | E117: 8 | G117: =IF($F117=" "," ",ROUND($E117*F117,2))
A118: 5.12.4 | C118: 600 mm dia Trash racks as indicated on drawings, Stainless steel | D118: No | E118: 4 | G118: =IF($F118=" "," ",ROUND($E118*F118,2))
A119: 5.12.5 | C119: 600 mm dia Butterfly Valve | D119: No | E119: 6 | G119: =IF($F119=" "," ",ROUND($E119*F119,2))
A120: 5.12.6 | C120: 600 mm dia Medium radius T junction | D120: No | E120: 1 | G120: =IF($F120=" "," ",ROUND($E120*F120,2))
A121: 5.12.7 | C121: 900 mm dia Blank flange with 100 mm N11 Machining from flange OD, with 200 mm dia stub pipe, 250 mm long | D121: No | E121: 2 | G121: =IF($F121=" "," ",ROUND($E121*F121,2))
A122: 5.12.8 | C122: 300mm dia, Swing check valve | D122: No | E122: 1 | G122: =IF($F122=" "," ",ROUND($E122*F122,2))
A123: 5.12.9 | C123: 600 mm dia blank flange | D123: No | E123: 1 | G123: =IF($F123=" "," ",ROUND($E123*F123,2))
A125: CARRIED FORWARD | G125: =IF(SUM(G95:G124)=0,"",SUM(G95:G124))
A128: =+A2 -> PART 5: INTAKE TOWER, ACCESS GALLERY, INCLUDING PIPEWORK
A130: ITEM | B130: PAYMENT | C130: DESCRIPTION | D130: UNIT | E130: QTY | F130: RATE | G130: AMOUNT
A131: NO | B131: REFERS
A132: BROUGHT FORWARD | G132: =IF(G125="","",G125)
B134: 1200 DB | C134: PIPE TRENCHES
A135: 5.13. | B135: 8.3.2 | C135: Excavate in all materials for trenches, backfill, compact and dispose of surplus material
...

Sheet 6
A2: PART 6: CONCRETE WORKS - OGEE SPILLWAY AND STILLING BASIN
A4: ITEM | B4: PAYMENT | C4: DESCRIPTION | D4: UNIT | E4: QTY | F4: RATE | G4: AMOUNT
A5: NO | B5: REFERS
B8: SANS | C8: CONCRETE (STRUCTURAL)
B9: 1200G
B10: PSG | C10: Scheduled Formwork
A11: 6.1. | B11: 8.2.1 | C11: Rough
A12: 6.1.1 | C12: a) Covered faces of stilling basin sidewall and training walls | D12: m² | E12: 310 | G12: =IF($F12=" "," ",ROUND($E12*F12,2))
A13: 6.1.2 | C13: b) Covered faces of sill d/s of stilling basin | D13: m² | E13: 75 | G13: =IF($F13=" "," ",ROUND($E13*F13,2))
A15: 6.2. | B15: 8.2.2 | C15: Smooth
A16: 6.2.1 | C16: a) Spillway side walls | D16: m² | E16: 600 | G16: =IF($F16=" "," ",ROUND($E16*F16,2))
A17: 6.2.2 | C17: b) Exposed faces of stilling basin walls | D17: m² | E17: 500 | G17: =IF($F17=" "," ",ROUND($E17*F17,2))
A18: 6.2.3 | C18: c) Stilling basin flow dividers | D18: m² | E18: 35 | G18: =IF($F18=" "," ",ROUND($E18*F18,2))
A19: 6.2.4 | C19: d) Stilling basin splitter | D19: m² | E19: 110 | G19: =IF($F19=" "," ",ROUND($E19*F19,2))
A20: 6.2.5 | C20: e) Stilling basin end sill | D20: m² | E20: 150 | G20: =IF($F20=" "," ",ROUND($E20*F20,2))
A21: 6.2.6 | C21: f) Exposed faces of spillway U/S | D21: m² | E21: 120 | G21: =IF($F21=" "," ",ROUND($E21*F21,2))
A22: 6.2.7 | C22: g) Sloping curved face to spillway ogee | D22: m² | E22: 230 | G22: =IF($F22=" "," ",ROUND($E22*F22,2))
A23: 6.2.8 | C23: h) Exposed faces of sill d/s of stilling basin | D23: m² | E23: 80 | G23: =IF($F23=" "," ",ROUND($E23*F23,2))
A25: 6.3. | B25: PSG 8.2.7 | C25: Special formed construction joints
A26: 6.3.1 | C26: a) Below stilling basin flow dividers | D26: m² | E26: 30 | G26: =IF($F26=" "," ",ROUND($E26*F26,2))
A27: 6.3.2 | C27: b) Connection between spillway sidewall and hardfill NOC | D27: m² | E27: 125 | G27: =IF($F27=" "," ",ROUND($E27*F27,2))
B29: 8.3 | C29: Scheduled Reinforcement Items
B30: 8.3.1 | C30: Steel bars
A31: 6.4. | C31: High tensile steel bars
A32: 6.4.1 | C32: a) Spillway side walls | D32: t | E32: 29 | G32: =IF($F32=" "," ",ROUND($E32*F32,2))
A33: 6.4.2 | C33: b) Stilling basin walls | D33: t | E33: 53 | G33: =IF($F33=" "," ",ROUND($E33*F33,2))
A34: 6.4.3 | C34: c) Stilling basin apron and end sill and splitters | D34: t | E34: 85 | G34: =IF($F34=" "," ",ROUND($E34*F34,2))
A35: 6.4.4 | C35: d) Stilling basin flow dividers | D35: t | E35: 2 | G35: =IF($F35=" "," ",ROUND($E35*F35,2))
A36: 6.4.5 | C36: e) Spillway Ogee crest | D36: t | E36: 69 | G36: =IF($F36=" "," ",ROUND($E36*F36,2))
A38: 6.5 | B38: 8.3.1 | C38: Low tensile steel bars
A39: 6.5.1 | C39: a) Spillway side walls | D39: t | E39: 0.3 | G39: =IF($F39=" "," ",ROUND($E39*F39,2))
A41: 6.6 | B41: PSG 8.3.4 | C41: Anchor rods (dowels)
A42: 6.6.1 | C42: a) Y16 Galvanised dowels from flow dividers into spillway body | D42: t | E42: 0.25 | G42: =IF($F42=" "," ",ROUND($E42*F42,2))
A43: 6.6.2 | C43: b) Y32 Galvanised Dowels with hooked end, 4 m deep into rock, vertical at spillway apron and retaining walls | D43: t | E43: 10 | G43: =IF($F43=" "," ",ROUND($E43*F43,2))
A44: 6.6.3 | C44: c) Y25 Dowels drilled into hardfill from sidewalls | D44: t | E44: 1.5 | G44: =IF($F44=" "," ",ROUND($E44*F44,2))
A46: CARRIED FORWARD | G46: =IF(SUM(G7:G45)=0,"",SUM(G7:G45))
A49: =+A2 -> PART 6: CONCRETE WORKS - OGEE SPILLWAY AND STILLING BASIN
A51: ITEM | B51: PAYMENT | C51: DESCRIPTION | D51: UNIT | E51: QTY | F51: RATE | G51: AMOUNT
A52: NO | B52: REFERS
A53: BROUGHT FORWARD | G53: =IF(G46="","",G46)
A55: 6.7. | B55: 8.4 | C55: Scheduled Concrete Items
B56: PSG 8.4.1 | C56: Prescribed Mix Concrete
A57: 6.7.1 | C57: a) No-fines concrete drain underneath stilling basin | D57: m³ | E57: 100 | G57: =IF($F57=" "," ",ROUND($E57*F57,2))
A58: 6.7.2 | C58: b) 20 mm thick mortar bed (1:5 Cement Sand) | D58: m² | E58: 640 | G58: =IF($F58=" "," ",ROUND($E58*F58,2))
A60: 6.8. | B60: 8.4.3 | C60: Strength Concrete
A61: 6.8.1 | C61: a) Reinforced concrete for spillway side walls 30 MPa/19 mm | D61: m³ | E61: 240 | G61: =IF($F61=" "," ",ROUND($E61*F61,2))
A62: 6.8.2 | C62: b) Reinforced concrete for stilling basin walls 30 MPa/19 mm | D62: m³ | E62: 435 | G62: =IF($F62=" "," ",ROUND($E62*F62,2))
A63: 6.8.3 | C63: c) Reinforced concrete for stilling basin apron including splitters 35 MPa/19 mm | D63: m³ | E63: 565 | G63: =IF($F63=" "," ",ROUND($E63*F63,2))
A64: 6.8.4 | C64: d) Reinforced concrete for stilling basin dividers Class 35 MPa/19 mm | D64: m³ | E64: 10 | G64: =IF($F64=" "," ",ROUND($E64*F64,2))
A65: 6.8.5 | C65: e) Reinforced concrete for Ogee crest 30 MPa/19 mm | D65: m³ | E65: 570 | G65: =IF($F65=" "," ",ROUND($E65*F65,2))
A66: 6.8.6 | C66: f) Mass concrete infill at dowels for stilling basin Class 20 MPa/19 mm | D66: m³ | E66: 20 | G66: =IF($F66=" "," ",ROUND($E66*F66,2))
A68: 6.8.7 | B68: 8.4.3(a) | C68: Extra Over Item 4.9.5, 6.8.2, 6.8.3 and 6.8.4 for the replacement of 10% of the cement content with silica fume | D68: m³ | E68: 500 | G68: =IF($F68=" "," ",ROUND($E68*F68,2))
A70: 6.9. | B70: 8.4.2 | C70: Unformed surface Finishes
A71: 6.9.1 | C71: a) Steel-floated finish to top of spillway side walls | D71: m² | E71: 45 | G71: =IF($F71=" "," ",ROUND($E71*F71,2))
A72: 6.9.2 | C72: b) Steel-floated finish to stilling basin apron and end sill | D72: m² | E72: 550 | G72: =IF($F72=" "," ",ROUND($E72*F72,2))
A73: 6.9.3 | C73: c) Steel-floated finish to top of stilling basin walls | D73: m² | E73: 150 | G73: =IF($F73=" "," ",ROUND($E73*F73,2))
A74: 6.9.4 | C74: d) Steel-floated finish to stilling basin flow dividers | D74: m² | E74: 8 | G74: =IF($F74=" "," ",ROUND($E74*F74,2))
A75: 6.9.5 | C75: e) Steel-floated finish to stilling basin splitters | D75: m² | E75: 6 | G75: =IF($F75=" "," ",ROUND($E75*F75,2))
A76: 6.9.6 | C76: f) Steel-floated finish to upstream slab of spillway | D76: m² | E76: 85 | G76: =IF($F76=" "," ",ROUND($E76*F76,2))
B78: PSG 8.5 | C78: Joints
A79: 6.10.1 | C79: a) Waterbars : 250 mm wide hydrofoil UPVC centre bulb waterstop | D79: m | E79: 150 | G79: =IF($F79=" "," ",ROUND($E79*F79,2))
A80: 6.10.2 | C80: b) Waterbars : 250 mm wide hydrofoil UPVC rearguard type "S" waterstop | D80: m | E80: 150 | G80: =IF($F80=" "," ",ROUND($E80*F80,2))
A81: 6.10.3 | C81: c) Shear Keys to details on the drawings | D81: m | E81: 150 | G81: =IF($F81=" "," ",ROUND($E81*F81,2))
A82: 6.10.4 | C82: d) M10 Chemical anchors | D82: No | E82: 40 | G82: =IF($F82=" "," ",ROUND($E82*F82,2))
A84: CARRIED FORWARD | G84: =IF(SUM(G53:G83)=0,"",SUM(G53:G83))
A87: =+A2 -> PART 6: CONCRETE WORKS - OGEE SPILLWAY AND STILLING BASIN
A89: ITEM | B89: PAYMENT | C89: DESCRIPTION | D89: UNIT | E89: QTY | F89: RATE | G89: AMOUNT
A90: NO | B90: REFERS
A91: BROUGHT FORWARD | G91: =IF(G84="","",G84)
A93: 6.11 | B93: PSG 8.9 | C93: Building pipes into concrete work
A94: 6.11.1 | C94: a) 600 mm dia steel pipe cast into stilling basin wall | D94: No | E94: 1 | G94: =IF($F94=" "," ",ROUND($E94*F94,2))
A95: 6.11.2 | C95: b) 150 mm dia steel pipe cast into stilling basin wall | D95: No | E95: 2 | G95: =IF($F95=" "," ",ROUND($E95*F95,2))
A96: 6.11.3 | C96: c) 76 mm dia PVC weephole pipes cast into stilling basin wall | D96: No | E96: 10 | G96: =IF($F96=" "," ",ROUND($E96*F96,2))
A97: 6.11.4 | C97: d) 100 mm dia PVC drainage pipes cast into stilling basin wall | D97: No | E97: 30 | G97: =IF($F97=" "," ",ROUND($E97*F97,2))
B99: PPS 5.5 | C99: DOWEL BARS
A101: 6.12 | B101: PPS 5.5.1 | C101: Set up for drilling and grouting of holes
A102: 6.12.1 | C102: a) 50 mm dia, vertical dowels at flow divider and hardfill dam | D102: No | E102: 50 | G102: =IF($F102=" "," ",ROUND($E102*F102,2))
A103: 6.12.2 | C103: b) 50 mm dia, 10 deg dowels at flow divider and hardfill dam | D103: No | E103: 50 | G103: =IF($F103=" "," ",ROUND($E103*F103,2))
A104: 6.12.3 | C104: c) 76 mm dia, vertical below stilling basin | D104: No | E104: 128 | G104: =IF($F104=" "," ",ROUND($E104*F104,2))
A105: 6.12.4 | C105: d) 50 mm dia, 10 deg, between spillway side wall and hardfill | D105: No | E105: 60 | G105: =IF($F105=" "," ",ROUND($E105*F105,2))
A106: 6.12.5 | C106: e) 50 mm dia, vertical, between spillway side wall and hardfill | D106: No | E106: 10 | G106: =IF($F106=" "," ",ROUND($E106*F106,2))
A107: 6.12.6 | C107: f) 76 mm dia, vertical retaining walls | D107: No | E107: 48 | G107: =IF($F107=" "," ",ROUND($E107*F107,2))
A109: 6.13 | B109: PPS 5.5.2 | C109: Drilling of dowel holes
A110: 6.13.1 | C110: a) 50 mm dia, vertical dowels at flow divider and hardfill dam | D110: m | E110: 50 | G110: =IF($F110=" "," ",ROUND($E110*F110,2))
A111: 6.13.2 | C111: b) 50 mm dia, 10 deg dowels at flow divider and hardfill dam | D111: m | E111: 50 | G111: =IF($F111=" "," ",ROUND($E111*F111,2))
A112: 6.13.3 | C112: c) 76 mm dia, vertical below stilling basin | D112: m | E112: 520 | G112: =IF($F112=" "," ",ROUND($E112*F112,2))
A113: 6.13.4 | C113: d) 50 mm dia, 10 deg, between spillway side wall and hardfill | D113: m | E113: 200 | G113: =IF($F113=" "," ",ROUND($E113*F113,2))
A114: 6.13.5 | C114: e) 50 mm dia, vertical, between spillway side wall and hardfill | D114: m | E114: 180 | G114: =IF($F114=" "," ",ROUND($E114*F114,2))
A115: 6.13.6 | C115: f) 76 mm dia, vertical retaining walls | D115: m | E115: 195 | G115: =IF($F115=" "," ",ROUND($E115*F115,2))
A117: CARRIED FORWARD | G117: =IF(SUM(G91:G116)=0,"",SUM(G91:G116))
A120: =+A2 -> PART 6: CONCRETE WORKS - OGEE SPILLWAY AND STILLING BASIN
A122: ITEM | B122: PAYMENT | C122: DESCRIPTION | D122: UNIT | E122: QTY | F122: RATE | G122: AMOUNT
A123: NO | B123: REFERS
A124: BROUGHT FORWARD | G124: =IF(G117="","",G117)
A126: 6.14. | B126: PPS 5.5.3 | C126: Anchorage of dowel bars into drilled holes
A127: 6.14.1 | C127: a) 50 mm dia, vertical dowels at flow divider and hardfill dam | D127: m | E127: 50 | G127: =IF($F127=" "," ",ROUND($E127*F127,2))
A128: 6.14.2 | C128: b) 50 mm dia, 10 deg dowels at flow divider and hardfill dam | D128: m | E128: 50 | G128: =IF($F128=" "," ",ROUND($E128*F128,2))
A129: 6.14.3 | C129: c) 50 mm dia, vertical below stilling basin | D129: m | E129: 520 | G129: =IF($F129=" "," ",ROUND($E129*F129,2))
A130: 6.14.4 | C130: d) 50 mm dia, vertical at sill downstream of stilling basin | D130: m | E130: 200 | G130: =IF($F130=" "," ",ROUND($E130*F130,2))
A131: 6.14.5 | C131: e) 50 mm dia, 10 deg, between spillway side wall and hardfill | D131: m | E131: 180 | G131: =IF($F131=" "," ",ROUND($E131*F131,2))
...

Sheet 7
A2: PART 7: RUBBLE MASONRY CONCRETE SPILLWAY SILL
A4: ITEM | B4: PAYMENT | C4: DESCRIPTION | D4: UNIT | E4: QTY | F4: RATE | G4: AMOUNT
A5: NO | B5: REFERS
B8: SANS | C8: SITE CLEARANCE
B9: 1200 C
A10: 7.1. | B10: 8.2.1 | C10: Clear and grub
A11: 7.1.1 | C11: a) Spillway Sill area | D11: ha | E11: 0.1 | G11: =IF($F11=" "," ",ROUND($E11*F11,2))
A13: 7.1.2 | B13: 8.2.3 | C13: Remove and grub all trees and tree stumps irrespective of girth | D13: ha | E13: 0.1 | G13: =IF($F13=" "," ",ROUND($E13*F13,2))
A15: 7.1.3 | B15: 8.2.10 | C15: Remove topsoil to a nominal depth of 150 mm and stockpile | D15: m³ | E15: 100 | G15: =IF($F15=" "," ",ROUND($E15*F15,2))
B17: 1200 D | C17: EARTHWORKS
B18: PSD
A19: 7.2. | B19: 8.3.2 | C19: Bulk Excavation
A20: 7.2.1 | C20: a) Excavate in all materials for construction of end sill | D20: m³ | E20: 1400 | G20: =IF($F20=" "," ",ROUND($E20*F20,2))
C21: b) Extra-over for:
A22: 7.2.2 | C22: 1) Hard-rock excavation | D22: m³ | E22: 50 | G22: =IF($F22=" "," ",ROUND($E22*F22,2))
A24: 7.3. | C24: Extra over for backfill or fill material against structures
A25: 7.3.1 | C25: a) Random backfill on upstream of spillway sill | D25: m³ | E25: 850 | G25: =IF($F25=" "," ",ROUND($E25*F25,2))
A26: 7.3.2 | C26: b) Random backfill on downstream of spillway sill | D26: m³ | E26: 400 | G26: =IF($F26=" "," ",ROUND($E26*F26,2))
B28: PPS 7 | C28: RUBBLE MASONRY CONCRETE
A30: 7.4. | B30: PPS7.9.2.1 | C30: Foundation Preparation
A31: 7.4.1 | C31: a) Preparation of competent rock foundation surface | D31: m² | E31: 120 | G31: =IF($F31=" "," ",ROUND($E31*F31,2))
A32: 7.4.2 | C32: b) Preparation of fill or ground surface | D32: m² | E32: 20 | G32: =IF($F32=" "," ",ROUND($E32*F32,2))
B34: PPS7.9.2.2 | C34: Mortar Blinding
A35: 7.4.3 | C35: a) 175 mm deep 1 + 3 Cement + Sand receiving layer | D35: m² | E35: 20 | G35: =IF($F35=" "," ",ROUND($E35*F35,2))
B37: PPS7.9.2.3 | C37: Rubble Masonry Concrete
A38: 7.4.4 | C38: a) 1 part Cement to approximately 6 part Sand (9 Mpa) | D38: m³ | E38: 200 | G38: =IF($F38=" "," ",ROUND($E38*F38,2))
C39: b) Area of Structure to be flush/recess pointed
A40: 7.4.5 | C40: i) Upstream face of spillway sill | D40: m² | E40: 100 | G40: =IF($F40=" "," ",ROUND($E40*F40,2))
A41: 7.4.6 | C41: ii) Downstream face of spillway sill | D41: m² | E41: 115 | G41: =IF($F41=" "," ",ROUND($E41*F41,2))
A42: 7.4.7 | C42: iii) Crest of spillway sill | D42: m² | E42: 40 | G42: =IF($F42=" "," ",ROUND($E42*F42,2))
A43: 7.4.8 | C43: iii) Inside of drainage openings | D43: m² | E43: 25 | G43: =IF($F43=" "," ",ROUND($E43*F43,2))
A45: CARRIED FORWARD | G45: =IF(SUM(G6:G44)=0,"",SUM(G6:G44))
A48: =A2 -> PART 7: RUBBLE MASONRY CONCRETE SPILLWAY SILL
A50: ITEM | B50: PAYMENT | C50: DESCRIPTION | D50: UNIT | E50: QTY | F50: RATE | G50: AMOUNT
A51: NO | B51: REFERS
A52: BROUGHT FORWARD | G52: =IF(G45="","",G45)
B54: SANS | C54: CONCRETE
B55: 1200 G
A56: 7.5. | B56: PSG 8.4.1 | C56: Prescribed Mix Concrete
A57: 7.5.1 | C57: No-fines concrete drain blocks | D57: m³ | E57: 0.3 | G57: =IF($F57=" "," ",ROUND($E57*F57,2))
B59: 8.6 | C59: Manufacture (or supply) and erect precast elements
A60: 7.5.2 | C60: Concrete Lintels, 1.2 m long 110 x 75 mm | D60: No | E60: 96 | G60: =IF($F60=" "," ",ROUND($E60*F60,2))
B62: 8.3 | C62: Scheduled Reinforcement Items
A64: 7.6. | B64: 8.3.4 | C64: Anchor rods (dowels)
A65: 7.6.1 | C65: 25 mm dia galvanized dowels at spillway sill | D65: t | E65: 1.2 | G65: =IF($F65=" "," ",ROUND($E65*F65,2))
B67: PPS 5.5 | C67: DOWEL BARS
B69: PPS 5.5.1 | C69: Set up for drilling and grouting of holes
A70: 7.6.2 | C70: 62 mm dia, vertical dowels at spillway sill | D70: No | E70: 50 | G70: =IF($F70=" "," ",ROUND($E70*F70,2))
B72: PPS 5.5.2 | C72: Drilling of dowel holes
A73: 7.6.3 | C73: 62 mm dia, vertical dowels at spillway sill | D73: m | E73: 200 | G73: =IF($F73=" "," ",ROUND($E73*F73,2))
B75: PPS 5.5.3 | C75: Anchorage of dowel bars into drilled holes
A76: 7.6.4 | C76: 25 mm dia, vertical dowels at spillway sill | D76: m | E76: 200 | G76: =IF($F76=" "," ",ROUND($E76*F76,2))
B78: 1200 LD | C78: SEWERS PIPEWORK
B79: PSLD
A80: 7.7. | B80: 8.2.1 | C80: Supply, lay joint, bed and test pipeline
A81: 7.7.1 | C81: 250 mm UPVC Class 9 | D81: m | E81: 5 | G81: =IF($F81=" "," ",ROUND($E81*F81,2))
A83: CARRIED FORWARD TO SUMMARY | G83: =IF(SUM(G52:G82)=0,"",SUM(G52:G82))

Sheet 8
A2: PART 8: INSTRUMENTATION
A4: ITEM | B4: PAYMENT | C4: DESCRIPTION | D4: UNIT | E4: QTY | F4: RATE | G4: AMOUNT
A5: NO | B5: REFERS
B8: PPS29 | C8: DAM MONITORING INSTRUMENTATION
A10: 8.1. | B10: 29.9.1 | C10: Survey Prism Targets, Survey Monuments and Fixed points
A11: 8.1.1 | C11: a) Survey Prism Targets | D11: No | E11: 4 | G11: =IF($F11=" "," ",ROUND($E11*F11,2))
A12: 8.1.2 | C12: b) Survey Monuments | D12: No | E12: 2 | G12: =IF($F12=" "," ",ROUND($E12*F12,2))
A14: 8.2.1 | B14: 29.9.2 | C14: Geodetic Survey Instruments | D14: No | E14: 1 | G14: =IF($F14=" "," ",ROUND($E14*F14,2))
A16: 8.3.1 | B16: 29.9.3 | C16: Electrical Piezometers | D16: No | E16: 10 | G16: =IF($F16=" "," ",ROUND($E16*F16,2))
A18: 8.4. | B18: 29.9.4 | C18: Direct Temperature Measurement Instruments
A19: 8.4.1 | C19: a) Thermocouples | D19: No | E19: 22 | G19: =IF($F19=" "," ",ROUND($E19*F19,2))
A21: 8.5.1 | B21: 29.9.5 | C21: Strain gauges | D21: No | E21: 24 | G21: =IF($F21=" "," ",ROUND($E21*F21,2))
A23: 8.6. | B23: 29.6.6 | C23: Supply and installation of instrument cabling
A24: 8.6.1 | C24: a) Cabling from piezometers to read out unit | D24: m | E24: 1000 | G24: =IF($F24=" "," ",ROUND($E24*F24,2))
A25: 8.6.2 | C25: b) Cabling from strain gauges to read out unit | D25: m | E25: 1700 | G25: =IF($F25=" "," ",ROUND($E25*F25,2))
A26: 8.6.3 | C26: c) Cabling from thermocouples to read out unit | D26: m | E26: 1700 | G26: =IF($F26=" "," ",ROUND($E26*F26,2))
A28: 8.7.1 | B28: 29.9.7 | C28: Flow Measuring Weirs | D28: No | E28: 3 | G28: =IF($F28=" "," ",ROUND($E28*F28,2))
A30: 8.8.1 | B30: 29.9.8 | C30: Water Level Staff Gauges | D30: No | E30: 1 | G30: =IF($F30=" "," ",ROUND($E30*F30,2))
A32: 8.9.1 | B32: 29.9.10 | C32: Automated Data Acquisition System | D32: Sum | E32: 1 | G32: =IF($F32=" "," ",ROUND($E32*F32,2))
A34: 8.10.1 | B34: 29.9.11 | C34: Instruments Reading during construction | D34: Sum | E34: 1 | G34: =IF($F34=" "," ",ROUND($E34*F34,2))
A36: 8.11.1 | B36: 29.9.12 | C36: Supervision of installation of instrumentation and equipment and testing | D36: Sum | E36: 1 | G36: =IF($F36=" "," ",ROUND($E36*F36,2))
A38: 8.12.1 | B38: 29.9.13 | C38: Operation and Maintenance training | D38: Sum | E38: 1 | G38: =IF($F38=" "," ",ROUND($E38*F38,2))
A40: CARRIED FORWARD TO SUMMARY | G40: =IF(SUM(G7:G39)=0,"",SUM(G7:G39))

Sheet 9
A2: PART 9: DAYWORKS
A4: ITEM | B4: PAYMENT | C4: DESCRIPTION | D4: UNIT | E4: QTY | F4: RATE | G4: AMOUNT
A5: NO | B5: REFERS
A8: 9.1. | B8: PPS 8 | C8: DAYWORKS
A10: 9.1.1 | B10: PPS 8.4.2.1 | C10: Provide for gross remuneration of all labour authorised by the Engineer to be employed on dayworks | D10: PS | E10: 1 | F10: 300000 | G10: =IF($F10=" "," ",ROUND($E10*F10,2)) -> 300000
A12: 9.1.2 | B12: PPS 8.4.2.2 | C12: Provide for the Contractor's allowance over and above item 9.1.1 to cover all costs incurred in providing labour for dayworks | D12: % | G12: =IF($E12=" "," ",ROUND(G10*E12%,2))
A14: 9.1.3 | B14: PPS 8.4.2.3 | C14: Provide for the cost of the Contractor's plant authorised by the Engineer to be employed on dayworks. Such costs to be paid at hire rates, as quoted in the Tender Forms | D14: PS | E14: 1 | F14: 300000 | G14: =IF($F14=" "," ",ROUND($E14*F14,2)) -> 300000
A16: 9.1.4 | B16: PPS 8.4.2.4 | C16: Provide for the Contractor's allowance over and above item 9.1.3 to cover all costs incurred in providing plant for dayworks | D16: % | G16: =IF($E16=" "," ",ROUND(G14*E16%,2))
A18: 9.1.5 | B18: PPS 8.4.2.5 | C18: Provide for the cost of materials at rates quoted approved by the Engineer, if no rate is supplied) for supplying on site materials authorised by the Engineer for use on dayworks | D18: PS | E18: 1 | F18: 500000 | G18: =IF($F18=" "," ",ROUND($E18*F18,2)) -> 500000
A20: 9.1.6 | B20: PPS 8.4.2.6 | C20: Provide for the Contractor's allowance over and above item 9.1.5 to cover all costs incurred in supplying material for dayworks | D20: % | G20: =IF($E20=" "," ",ROUND(G18*E20%,2))
A23: CARRIED FORWARD TO SUMMARY | G23: =IF(SUM(G7:G22)=0,"",SUM(G7:G22)) -> 1100000

Sheet Summary
B3: CONSTRUCTION OF NTSONYINI NGQONGWENI OFF-CHANNEL STORAGE DAM – CONTRACT 2
B5: SUMMARY OF SCHEDULE
B11: =+'1'!A2 -> PART 1: PRELIMINARY AND GENERAL | G11: ='1'!G161 -> 18743500
B13: =+'2'!A2 -> PART 2: SITE CLEARING, EXCAVATION AND EARTHWORKS | G13: ='2'!G117
B15: =+'3'!A2 -> PART 3: FOUNDATION DRILLING AND GROUTING | G15: ='3'!G63 -> 250000
B17: =+'4'!A2 -> PART 4: HARDFILL DAM WITH CONCRETE UPSTREAM FACING | G17: ='4'!G232 -> 1500000
B19: =+'5'!A2 -> PART 5: INTAKE TOWER, ACCESS GALLERY, INCLUDING PIPEWORK | G19: ='5'!G198 -> 900000
B21: =+'6'!A2 -> PART 6: CONCRETE WORKS - OGEE SPILLWAY AND STILLING BASIN | G21: ='6'!G154
B23: ='7'!A2 -> PART 7: RUBBLE MASONRY CONCRETE SPILLWAY SILL | G23: ='7'!G83
B25: ='8'!A2 -> PART 8: INSTRUMENTATION | G25: ='8'!G40
B27: ='9'!A2 -> PART 9: DAYWORKS | G27: ='9'!G23 -> 1100000
B30: SUB TOTAL 1 | G30: =IF(SUM(G11:H29)=0,"",SUM(G11:H29)) -> 22493500
B32: Add 10% for Escalation | G32: =IF(G30=0,"",ROUND(G30*0.1,2)) -> 2249350
B34: SUB TOTAL 2 | G34: =IF(SUM(G30:H33)=0,"",SUM(G30:H33)) -> 24742850
B36: Add 5% for Contingencies | G36: =IF(G34=0,"",ROUND(G34*0.05,2)) -> 1237142.5
B38: SUB TOTAL 3 | G38: =IF(SUM(G34:H37)=0,"",SUM(G34:H37)) -> 25979992
B40: Contract Skills Development Goal (CSDG) @ 0.25% of SUB TOTAL 3 | G40: =IF(G38=0,"",ROUND(G38*0.0025,2)) -> 64949.98
B42: SUB TOTAL 4 | G42: =IF(SUM(G38:H41)=0,"",SUM(G38:H41)) -> 26044942
B44: ADD 15% V.A.T. of SUB TOTAL 4 | G44: =IF(G42=0,"",+G38*0.15) -> 3896998.9
B47: GRAND TOTAL CARRIED FORWARD | G47: =IF(G42=0,"",SUM(G42:H44)) -> 29941941
D60: Total as per PSA 8.2.5 | H60: % of Sub-Total 1
B62: SANS 1200A Items 8.3: Fixed Charge and Value Related Items | D62: =SUM('1'!G12:G27) -> 0 | H62: =D62/G30 -> 0
B64: SANS 1200A Items 8.4: Time Related Items | D64: =SUM('1'!G31:G50) -> 0 | H64: =D64/G30 -> 0
