Workbook
Name Print_Area_MI: '1'!#REF!
Name Print_Area_MI: '2'!#REF!
Name Print_Area_MI: '3'!#REF!
Name Print_Area_MI: '4'!#REF!
Name Print_Area_MI: '5'!#REF!
Name Print_Area_MI: '6'!#REF!
Name Print_Area_MI: '7'!#REF!
Name Print_Area_MI: '8'!#REF!
Name Print_Area_MI: '9'!#REF!
Name Print_Area_MI: A!#REF!
Name Print_Area_MI: Summary!#REF!

Sheet 1
A2: PART 1: PRELIMINARY AND GENERAL
A4: ITEM | B4: PAYMENT | C4: DESCRIPTION | D4: UNIT | E4: QTY | F4: RATE | G4: AMOUNT
A5: NO | B5: REFERS
B7: SANS | G7: =IF($F7=" "," ",ROUND($E7*F7,2))
B8: 1200 A | C8: GENERAL | G8: =IF($F8=" "," ",ROUND($E8*F8,2))
G9: =IF($F9=" "," ",ROUND($E9*F9,2))
A10: 1.1 | B10: 8.3 | C10: FIXED-CHARGED ITEMS | G10: =IF($F10=" "," ",ROUND($E10*F10,2))
G11: =IF($F11=" "," ",ROUND($E11*F11,2))
A12: 1.1.1 | B12: 8.3.1 | C12: Contractual requirements | D12: Sum | E12: 1 | G12: =IF($F12=" "," ",ROUND($E12*F12,2))
G13: =IF($F13=" "," ",ROUND($E13*F13,2))
B14: 8.3.2 | C14: Establishment of facilities on site | G14: =IF($F14=" "," ",ROUND($E14*F14,2))
A15: 1.1.2 | B15: 8.3.2.1 | C15: Facilities for the Engineer | G15: =IF($F15=" "," ",ROUND($E15*F15,2))
A16: 1.1.2.1 | C16: a) Furnished Offices & ablution facilities | D16: Sum | E16: 1 | G16: =IF($F16=" "," ",ROUND($E16*F16,2))
A17: 1.1.2.2 | C17: b) Nameboards (2 No.) | D17: Sum | E17: 1 | G17: =IF($F17=" "," ",ROUND($E17*F17,2))
A18: 1.1.2.3 | C18: c) Carports | D18: No | E18: 2 | G18: =IF($F18=" "," ",ROUND($E18*F18,2))
A19: 1.1.2.4 | C19: d) Equipment | D19: Sum | E19: 1 | G19: =IF($F19=" "," ",ROUND($E19*F19,2))
A20: 1.1.2.5 | C20: e) Telephone, Fax, etc | D20: Sum | E20: 1 | G20: =IF($F20=" "," ",ROUND($E20*F20,2))
A21: 1.1.2.6 | C21: f) Survey Assistants and Materials | D21: Sum | E21: 1 | G21: =IF($F21=" "," ",ROUND($E21*F21,2))
G22: =IF($F22=" "," ",ROUND($E22*F22,2))
A23: 1.1.3 | B23: 8.3.2.2 | C23: Facilities for the Contractor | D23: Sum | E23: 1 | G23: =IF($F23=" "," ",ROUND($E23*F23,2))
G24: =IF($F24=" "," ",ROUND($E24*F24,2))
A25: 1.1.4 | B25: 8.3.3 | C25: Other fixed-charged obligations | D25: Sum | E25: 1 | G25: =IF($F25=" "," ",ROUND($E25*F25,2))
G26: =IF($F26=" "," ",ROUND($E26*F26,2))
A27: 1.1.5 | B27: 8.3.4 | C27: Removal of site establishment | D27: Sum | E27: 1 | G27: =IF($F27=" "," ",ROUND($E27*F27,2))
G28: =IF($F28=" "," ",ROUND($E28*F28,2))
A29: 1.2 | B29: 8.4 | C29: TIME RELATED ITEMS | G29: =IF($F29=" "," ",ROUND($E29*F29,2))
G30: =IF($F30=" "," ",ROUND($E30*F30,2))
A31: 1.2.1 | B31: 8.4.1 | C31: Contractual requirements | D31: Sum | E31: 1 | G31: =IF($F31=" "," ",ROUND($E31*F31,2))
G32: =IF($F32=" "," ",ROUND($E32*F32,2))
B33: 8.4.2 | C33: Operation and maintenance of facilities on site | G33: =IF($F33=" "," ",ROUND($E33*F33,2))
A34: 1.2.2 | B34: 8.4.2.1 | C34: Facilities for the Engineer | G34: =IF($F34=" "," ",ROUND($E34*F34,2))
A35: 1.2.2.2 | C35: a) Furnished Offices & ablution facilities | D35: Sum | E35: 1 | G35: =IF($F35=" "," ",ROUND($E35*F35,2))
A36: 1.2.2.3 | C36: b) Nameboards (2 No.) | D36: Sum | E36: 1 | G36: =IF($F36=" "," ",ROUND($E36*F36,2))
A37: 1.2.2.4 | C37: c) Carports | D37: No | E37: 2 | G37: =IF($F37=" "," ",ROUND($E37*F37,2))
A38: 1.2.2.5 | C38: d) Equipment | D38: Sum | E38: 1 | G38: =IF($F38=" "," ",ROUND($E38*F38,2))
A39: 1.2.2.6 | C39: e) Telephone, Fax, etc | D39: Sum | E39: 1 | G39: =IF($F39=" "," ",ROUND($E39*F39,2))
A40: 1.2.2.7 | C40: f) Survey Assistants and Materials | D40: Sum | E40: 1 | G40: =IF($F40=" "," ",ROUND($E40*F40,2))
G41: =IF($F41=" "," ",ROUND($E41*F41,2))
A42: 1.2.3 | B42: 8.4.2.2 | C42: Facilities for the Contractor | D42: Sum | E42: 1 | G42: =IF($F42=" "," ",ROUND($E42*F42,2))
G43: =IF($F43=" "," ",ROUND($E43*F43,2))
...

Sheet 2
A2: PART 2: SITE CLEARING, EXCAVATION AND EARTHWORKS
A4: ITEM | B4: PAYMENT | C4: DESCRIPTION | D4: UNIT | E4: QTY | F4: RATE | G4: AMOUNT
A5: NO | B5: REFERS
G7: =IF($F7=" "," ",ROUND($E7*F7,2))
B8: SANS | C8: SITE CLEARANCE
B9: 1200 C
A10: 2.1. | B10: 8.2.1 | C10: Clear and grub
A11: 2.1.1 | C11: a) Contractor's Camp Area | D11: ha | E11: 1 | G11: =IF($F11=" "," ",ROUND($E11*F11,2))
A12: 2.1.2 | C12: b) Dam site area | D12: ha | E12: 2 | G12: =IF($F12=" "," ",ROUND($E12*F12,2))
A13: 2.1.3 | C13: c) Topsoil stockpile area | D13: ha | E13: 2 | G13: =IF($F13=" "," ",ROUND($E13*F13,2))
A14: 2.1.4 | C14: d) Temporary stockpile area adjacent to quarry/borrow area | D14: ha | E14: 0.5 | G14: =IF($F14=" "," ",ROUND($E14*F14,2))
A16: 2.1.5 | B16: 8.2.3 | C16: Remove and grub all trees and tree stumps irrespective of girth | D16: ha | E16: 2 | G16: =IF($F16=" "," ",ROUND($E16*F16,2))
B17: PSC 8.2.7 | C17: Dismantle and remove pipelines, electricity transmission lines, cables, etc.
C18: a) Pipework including couplings, valves etc outside dam of river diversion
A19: 2.1.6 | C19: 1) 900 mm dia steel pipe | D19: m | E19: 78 | G19: =IF($F19=" "," ",ROUND($E19*F19,2))
A20: 2.1.7 | C20: 2) 900 mm dia steel Couplings | D20: No | E20: 1 | G20: =IF($F20=" "," ",ROUND($E20*F20,2))
A21: 2.1.8 | C21: 3) 900 mm dia Specials (bends) | D21: No | E21: 3 | G21: =IF($F21=" "," ",ROUND($E21*F21,2))
B22: PSC 8.2.8 | C22: Demolish and remove structures/buildings and dismantle steelwork, etc.
A23: 2.1.9 | C23: a) Headwall on downstream side of river diversion pipes | D23: No | E23: 1 | G23: =IF($F23=" "," ",ROUND($E23*F23,2))
A25: 2.1.10 | B25: 8.2.10 | C25: Remove topsoil to a nominal depth of 150 mm and stockpile | D25: m³ | E25: 2000 | G25: =IF($F25=" "," ",ROUND($E25*F25,2))
B26: 1200D | C26: EARTHWORKS
B27: PSD
A28: 2.2. | B28: 8.3.2 | C28: Bulk Excavation
A29: 2.2.1 | C29: a) Excavate in all materials for construction of Hardfill dam | D29: m³ | E29: 23500 | G29: =IF($F29=" "," ",ROUND($E29*F29,2))
A30: 2.2.2 | C30: b) Excavate in all materials for diversion pipe on US and DS side of dam | D30: m³ | E30: 365 | G30: =IF($F30=" "," ",ROUND($E30*F30,2))
C31: c) Extra-over for:
A32: 2.2.3 | C32: 1) Hard-rock excavation | D32: m³ | E32: 1000 | G32: =IF($F32=" "," ",ROUND($E32*F32,2))
B33: 8.3.3 | C33: Restricted Excavation
A34: 2.2.4 | C34: a) Excavate in all material for construction of hardfill dam | D34: m³ | E34: 24070 | G34: =IF($F34=" "," ",ROUND($E34*F34,2))
C35: b) Extra-over for:
A36: 2.2.5 | C36: 1) Hard-rock excavation | D36: m³ | E36: 22800 | G36: =IF($F36=" "," ",ROUND($E36*F36,2))
B37: 8.3.9 | C37: Extra Over for Backfill of Fill materials against structures
A38: 2.2.6 | C38: a) Random backfill from stockpile on d/s side of dam | D38: m³ | E38: 22550 | G38: =IF($F38=" "," ",ROUND($E38*F38,2))
A40: CARRIED FORWARD | G40: =IF(SUM(G7:G39)=0,"",SUM(G7:G39))
A43: =+A2 -> PART 2: SITE CLEARING, EXCAVATION AND EARTHWORKS
A45: ITEM | B45: PAYMENT | C45: DESCRIPTION | D45: UNIT | E45: QTY | F45: RATE | G45: AMOUNT
A46: NO | B46: REFERS
A47: BROUGHT FORWARD | G47: =IF(G40="","",G40)
B48: 8.3.10 | C48: Topsoiling
A49: 2.2.7 | C49: a) Contractor's Camp Area, 150 mm depth | D49: m² | E49: 10000 | G49: =IF($F49=" "," ",ROUND($E49*F49,2))
...

Sheet A
A2: PART A: DIVERSION WORKS
A4: ITEM | B4: PAYMENT | C4: DESCRIPTION | D4: UNIT | E4: QTY | F4: RATE | G4: AMOUNT
A5: NO | B5: REFERS
B8: SANS
B9: 1200 D | C9: EARTHWORKS
B10: PSD
A11: A.1. | B11: 8.3.2 | C11: Bulk Excavation
A12: A.1.1 | C12: a) Excavate in all materials for removal of diversion embankment | D12: m³ | E12: 4600 | G12: =IF($F12=" "," ",ROUND($E12*F12,2))
B14: SANS | C14: EARTHWORKS (PIPE TRENCHES)
B15: 1200 DB
B16: PSDB
A17: A.2. | B17: 8.3.2 | C17: Excavate in all materials for trenches, backfill, compact and dispose of surplus material
C18: 900 mm dia in trench
A19: A.2.1 | C19: a) Excavation length exceeding 0 m, but not 1 m in depth | D19: m | E19: 10 | G19: =IF($F19=" "," ",ROUND($E19*F19,2))
A20: A.2.2 | C20: b) Excavation length exceeding 1 m, but not 2 m in depth | D20: m | E20: 6 | G20: =IF($F20=" "," ",ROUND($E20*F20,2))
A21: A.2.3 | C21: a) Excavation length exceeding 2 m, but not 3 m in depth | D21: m | E21: 16 | G21: =IF($F21=" "," ",ROUND($E21*F21,2))
A22: A.2.4 | C22: b) Excavation length exceeding 3 m, but not 4 m in depth | D22: m | E22: 11 | G22: =IF($F22=" "," ",ROUND($E22*F22,2))
A23: A.2.5 | C23: c) Excavation length exceeding 4 m, but not 5 m in depth | D23: m | E23: 9 | G23: =IF($F23=" "," ",ROUND($E23*F23,2))
A24: A.2.6 | C24: d) Excavation length exceeding 5 m, but not 6 m in depth | D24: m | E24: 6 | G24: =IF($F24=" "," ",ROUND($E24*F24,2))
A25: A.2.7 | C25: e) Excavation length exceeding 6 m, but not 7 m in depth | D25: m | E25: 24 | G25: =IF($F25=" "," ",ROUND($E25*F25,2))
B27: 8.3.3 | C27: Extra over
A28: A.2.8 | C28: Soft rock excavation | D28: m³ | E28: 50 | G28: =IF($F28=" "," ",ROUND($E28*F28,2))
B30: SANS | C30: SMALL EARTH DAMS
B31: 1200 DE
A33: A.3. | B33: 8.3.5 | C33: Forming Embankment
A34: A.3.1 | C34: a) Selected Impervious material from borrow area | D34: m³ | E34: 1250 | G34: =IF($F34=" "," ",ROUND($E34*F34,2))
A35: A.3.2 | C35: b) Gravel capping from commercial source | D35: m³ | E35: 75 | G35: =IF($F35=" "," ",ROUND($E35*F35,2))
A36: A.3.3 | B36: PSDE 8.3.5 | C36: c) Rockfill from quarry | D36: m³ | E36: 3250 | G36: =IF($F36=" "," ",ROUND($E36*F36,2))
A38: CARRIED FORWARD | G38: =IF(SUM(G7:G37)=0,"",SUM(G7:G37))
A41: =+A2 -> PART A: DIVERSION WORKS
A43: ITEM | B43: PAYMENT | C43: DESCRIPTION | D43: UNIT | E43: QTY | F43: RATE | G43: AMOUNT
A44: NO | B44: REFERS
A45: BROUGHT FORWARD | G45: =IF(G38="","",G38)
B46: SANS
B47: 1200 H | C47: STRUCTURAL STEELWORK
A49: A.4. | B49: 8.3.1 | C49: Supply and Fabrication
A50: A.4.1 | C50: a) Trash rack, according to dwg 7474-042 | D50: No | E50: 1 | G50: =IF($F50=" "," ",ROUND($E50*F50,2))
A52: A.5. | B52: 8.3.2 | C52: Delivery to site
A53: A.5.1 | C53: a) Trash rack, according to dwg 7474-042 | D53: No | E53: 1 | G53: =IF($F53=" "," ",ROUND($E53*F53,2))
A55: A.6. | B55: 8.3.3 | C55: Erection on site
...

Sheet 3
A2: PART 3: FOUNDATION DRILLING AND GROUTING
A4: ITEM | B4: PAYMENT | C4: DESCRIPTION | D4: UNIT | E4: QTY | F4: RATE | G4: AMOUNT
A5: NO | B5: REFERS
B8: PPS 9 | C8: DRILLING AND GROUTING
A9: 3.1. | B9: PPS 9.14.1 | C9: Setting up equipment for drilling grout and drainage holes
A10: 3.1.1 | C10: a) Percussion Drilling Rig for grouting | D10: No | E10: 200 | G10: =IF($F10=" "," ",ROUND($E10*F10,2))
A11: 3.1.2 | C11: b) Percussion Drilling Rig for foundation drainage | D11: No | E11: 200 | G11: =IF($F11=" "," ",ROUND($E11*F11,2))
A12: 3.1.3 | C12: c) Percussion Drilling Rig for dam drainage at spillway | D12: No | E12: 20 | G12: =IF($F12=" "," ",ROUND($E12*F12,2))
A13: 3.1.4 | C13: d) Rotary core Drilling Rigs for inspection | D13: No | E13: 2 | G13: =IF($F13=" "," ",ROUND($E13*F13,2))
A14: 3.1.5 | C14: e) Percussion Drilling Rigs for grouting through hardfill in dam | D14: No | E14: 5 | G14: =IF($F14=" "," ",ROUND($E14*F14,2))
A15: 3.1.6 | C15: f) Percussion Drilling Rigs for drainage through hardfill in dam | D15: No | E15: 6 | G15: =IF($F15=" "," ",ROUND($E15*F15,2))
A16: 3.2. | B16: PPS 9.14.2 | C16: Drilling of grout and drainage holes | G16: =IF($F16=" "," ",ROUND($E16*F16,2))
A17: 3.2.1 | C17: a) Percussion Drilling for grouting, 0-25 m, 0-30 deg | D17: m | E17: 1500 | G17: =IF($F17=" "," ",ROUND($E17*F17,2))
A18: 3.2.2 | C18: b) Percussion Drilling for grouting, 25-50 m, 0-30 deg | D18: m | E18: 1000 | G18: =IF($F18=" "," ",ROUND($E18*F18,2))
A19: 3.2.3 | C19: c) Percussion Drilling for drainage, 0-25 m, 0-30 deg | D19: m | E19: 1650 | G19: =IF($F19=" "," ",ROUND($E19*F19,2))
A20: 3.2.4 | C20: d) Percussion Drilling for dam drainage at spillway, 0-25 m, 0-30 deg | D20: m | E20: 560 | G20: =IF($F20=" "," ",ROUND($E20*F20,2))
A21: 3.2.5 | C21: e) Rotary core drilling inspection, 0-25 m,0-30 deg | D21: m | E21: 50 | G21: =IF($F21=" "," ",ROUND($E21*F21,2))
A22: 3.2.6 | C22: f) Percussion drilling for drainage through hardfill in dam, 25-50 m,0-30 deg | D22: m | E22: 130 | G22: =IF($F22=" "," ",ROUND($E22*F22,2))
A23: 3.3. | B23: PPS 9.14.3 | C23: Re-drilling of grouted holes | G23: =IF($F23=" "," ",ROUND($E23*F23,2))
A24: 3.3.1 | C24: a) Re-drilling for grouting, 0-30 deg | D24: m | E24: 45 | G24: =IF($F24=" "," ",ROUND($E24*F24,2))
A25: 3.4. | B25: PPS 9.14.4 | C25: Water pressure tests | G25: =IF($F25=" "," ",ROUND($E25*F25,2))
A26: 3.4.1 | C26: a) Abbreviated water pressure tests | D26: No | E26: 307.5 | G26: =IF($F26=" "," ",ROUND($E26*F26,2))
A27: 3.4.2 | C27: b) Full water pressure tests | D27: No | E27: 102.5 | G27: =IF($F27=" "," ",ROUND($E27*F27,2))
A28: 3.5. | B28: PPS 9.14.7 | C28: Curtain grouting | G28: =IF($F28=" "," ",ROUND($E28*F28,2))
A29: 3.5.1 | C29: Pre stage Curtain Grouting | D29: No | E29: 200 | G29: =IF($F29=" "," ",ROUND($E29*F29,2))
A30: 3.5.2 | C30: 1st Stage Curtain Grouting | D30: No | E30: 200 | G30: =IF($F30=" "," ",ROUND($E30*F30,2))
A31: 3.5.3 | C31: 2nd Stage Curtain Grouting | D31: No | E31: 70 | G31: =IF($F31=" "," ",ROUND($E31*F31,2))
A32: 3.5.4 | C32: 3rd Stage Curtain Grouting | D32: No | E32: 60 | G32: =IF($F32=" "," ",ROUND($E32*F32,2))
A33: 3.5.5 | C33: 4th Stage Curtain Grouting | D33: No | E33: 50 | G33: =IF($F33=" "," ",ROUND($E33*F33,2))
A34: 3.5.6 | C34: 5th Stage Curtain Grouting | D34: No | E34: 30 | G34: =IF($F34=" "," ",ROUND($E34*F34,2))
A35: 3.5.7 | C35: 6th Stage Curtain Grouting | D35: No | E35: 15 | G35: =IF($F35=" "," ",ROUND($E35*F35,2))
A37: CARRIED FORWARD | G37: =IF(SUM(G8:G36)=0,"",SUM(G8:G36))
A40: =+A2 -> PART 3: FOUNDATION DRILLING AND GROUTING
A42: ITEM | B42: PAYMENT | C42: DESCRIPTION | D42: UNIT | E42: QTY | F42: RATE | G42: AMOUNT
A43: NO | B43: REFERS
A44: BROUGHT FORWARD | G44: =IF(G37="","",G37)
A46: 3.6. | B46: PPS 9.14.8 | C46: Grouting materials
A47: 3.6.1 | C47: a) CEM 1 cement | D47: t | E47: 32 | G47: =IF($F47=" "," ",ROUND($E47*F47,2))
A48: 3.6.2 | C48: b) Bentonite | D48: t | E48: 0.96 | G48: =IF($F48=" "," ",ROUND($E48*F48,2))
G49: =IF($F49=" "," ",ROUND($E49*F49,2))
...

Sheet 4
A2: PART 4: HARDFILL DAM WITH CONCRETE UPSTREAM FACING
A4: ITEM | B4: PAYMENT | C4: DESCRIPTION | D4: UNIT | E4: QTY | F4: RATE | G4: AMOUNT
A5: NO | B5: REFERS
B7: SANS | C7: CONCRETE (STRUCTURAL)
B8: 1200G
A9: 4.1. | B9: PSG | C9: Scheduled Formwork
B10: 8.2.1 | C10: Rough
A11: 4.1.1 | C11: a) Upstream vertical steps of hardfill dam, inclusive of anchorage into Hardfill | D11: m² | E11: 4900 | G11: =IF($F11=" "," ",ROUND($E11*F11,2))
A12: 4.1.2 | C12: b) Downstream vertical steps of hardfill below backfill, inclusive of anchorage into Hardfill | D12: m² | E12: 1250 | G12: =IF($F12=" "," ",ROUND($E12*F12,2))
A13: 4.1.3 | C13: c) Sides of joints in crest | D13: m² | E13: 35 | G13: =IF($F13=" "," ",ROUND($E13*F13,2))
A14: 4.1.4 | C14: d) Sides of joints in upstream reinforced concrete facing | D14: m² | E14: 200 | G14: =IF($F14=" "," ",ROUND($E14*F14,2))
A15: 4.1.5 | C15: e) Sides of joints in plinth block | D15: m² | E15: 100 | G15: =IF($F15=" "," ",ROUND($E15*F15,2))
A16: 4.1.6 | C16: f) Sides of joints in levelling concrete | D16: m² | E16: 425 | G16: =IF($F16=" "," ",ROUND($E16*F16,2))
G17: =IF($F17=" "," ",ROUND($E17*F17,2))
A18: 4.2. | B18: 8.2.2 | C18: Smooth | G18: =IF($F18=" "," ",ROUND($E18*F18,2))
A19: 4.2.1 | C19: a) Upstream and downstream crest concrete including kicker | D19: m² | E19: 520 | G19: =IF($F19=" "," ",ROUND($E19*F19,2))
A20: 4.2.2 | C20: b) Vertical exposed faces of spillway steps D/S | D20: m² | E20: 970 | G20: =IF($F20=" "," ",ROUND($E20*F20,2))
A21: 4.2.3 | C21: c) Vertical exposed upstream and downstream face of NOC | D21: m² | E21: 2900 | G21: =IF($F21=" "," ",ROUND($E21*F21,2))
A22: 4.2.4 | C22: d) Sloped face of plinth block | D22: m² | E22: 1210 | G22: =IF($F22=" "," ",ROUND($E22*F22,2))
A23: 4.2.5 | C23: e) Upstream end of plinth | D23: m² | E23: 165 | G23: =IF($F23=" "," ",ROUND($E23*F23,2))
A24: 4.2.6 | C24: f) Downstream face of longitudinal gallery | D24: m² | E24: 970 | G24: =IF($F24=" "," ",ROUND($E24*F24,2))
A25: 4.2.7 | C25: g) Downstream vertical face of hardfill dam above backfill, inclusive of anchorage into Hardfill | D25: m² | E25: 2910 | G25: =IF($F25=" "," ",ROUND($E25*F25,2))
A27: 4.3. | B27: 8.2.5 | C27: Narrow Widths
A28: 4.3.1 | C28: a) Grooves in GEVR steps, 250 mm wide on each step according to drawings | D28: m | E28: 1680 | G28: =IF($F28=" "," ",ROUND($E28*F28,2))
A29: 4.3.2 | C29: b) Gallery drain side , 300 mm wide | D29: m | E29: 325 | G29: =IF($F29=" "," ",ROUND($E29*F29,2))
A31: 4.4. | B31: PSG 8.2.7 | C31: Sliding Formwork
A32: 4.4.1 | C32: a) Upstream reinforced concrete slab | D32: m² | E32: 7130 | G32: =IF($F32=" "," ",ROUND($E32*F32,2))
B34: 8.3 | C34: Scheduled Reinforcement Items
A35: 4.5. | B35: 8.3.1 | C35: Steel bars
A36: 4.5.1 | C36: High tensile steel bars
A37: 4.5.2 | C37: a) Plinth block reinforcement | D37: t | E37: 450 | G37: =IF($F37=" "," ",ROUND($E37*F37,2))
A38: 4.5.3 | C38: b) NOC Crest Concrete reinforcement | D38: t | E38: 711 | G38: =IF($F38=" "," ",ROUND($E38*F38,2))
A39: 4.5.4 | C39: c) Lacing bars for dowel connection at spillway sidewall | D39: t | E39: 2 | G39: =IF($F39=" "," ",ROUND($E39*F39,2))
A40: 4.5.5 | C40: d) Upstream Slab Reinforcement | D40: t | E40: 444 | G40: =IF($F40=" "," ",ROUND($E40*F40,2))
A42: CARRIED FORWARD | G42: =IF(SUM(G7:G41)=0,"",SUM(G7:G41))
A45: =+A2 -> PART 4: HARDFILL DAM WITH CONCRETE UPSTREAM FACING
A47: ITEM | B47: PAYMENT | C47: DESCRIPTION | D47: UNIT | E47: QTY | F47: RATE | G47: AMOUNT
A48: NO | B48: REFERS
A49: BROUGHT FORWARD | G49: =IF(G42="","",G42)
A51: 4.6. | B51: PSG 8.3.4 | C51: Anchor rods (dowels)
...

Sheet 5
A2: PART 5: INTAKE TOWER, ACCESS GALLERY, INCLUDING PIPEWORK
A4: ITEM | B4: PAYMENT | C4: DESCRIPTION | D4: UNIT | E4: QTY | F4: RATE | G4: AMOUNT
A5: NO | B5: REFERS
B8: SANS | C8: CONCRETE (STRUCTURAL)
B9: 1200G
B10: PSG | C10: Scheduled Formwork
A11: 5.1. | B11: 8.2.1 | C11: Rough
A12: 5.1.1 | C12: a) Inside faces of access gallery | D12: m² | E12: 270 | G12: =IF($F12=" "," ",ROUND($E12*F12,2))
A13: 5.1.2 | C13: b) Sump sides | D13: m² | E13: 1.5 | G13: =IF($F13=" "," ",ROUND($E13*F13,2))
B15: 8.2.2 | C15: Smooth
A16: 5.1.3 | C16: a) Vertical exposed faces of intake tower walls inside and outside | D16: m² | E16: 715 | G16: =IF($F16=" "," ",ROUND($E16*F16,2))
A17: 5.1.4 | C17: b) Vertical exposed faces of intake base inside and outside | D17: m² | E17: 460 | G17: =IF($F17=" "," ",ROUND($E17*F17,2))
A18: 5.1.5 | C18: c) Valve control room walls inside and outside | D18: m² | E18: 140 | G18: =IF($F18=" "," ",ROUND($E18*F18,2))
A19: 5.1.6 | C19: d) Valve access inside and outside | D19: m² | E19: 200 | G19: =IF($F19=" "," ",ROUND($E19*F19,2))
A20: 5.1.7 | C20: e) Concrete stairs inside access | D20: m² | E20: 15 | G20: =IF($F20=" "," ",ROUND($E20*F20,2))
A21: 5.1.8 | C21: f) Curved for gallery access | D21: m² | E21: 20 | G21: =IF($F21=" "," ",ROUND($E21*F21,2))
B23: 8.2.6 | C23: Box out holes/Form Voids
A24: 5.1.9 | C24: a) Large, other than circular, Box out for 900 x 600 mm louvre | D24: No | E24: 4 | G24: =IF($F24=" "," ",ROUND($E24*F24,2))
B26: 8.3 | C26: Scheduled Reinforcement Items
A27: 5.2. | B27: 8.3.1 | C27: Steel bars
C28: High tensile steel bars
A29: 5.2.1 | C29: a) Reinforcement for intake tower base | D29: t | E29: 56 | G29: =IF($F29=" "," ",ROUND($E29*F29,2))
A30: 5.2.2 | C30: b) Reinforcement for intake tower walls | D30: t | E30: 30 | G30: =IF($F30=" "," ",ROUND($E30*F30,2))
A31: 5.2.3 | C31: c) Reinforcement for valve room and access | D31: t | E31: 15 | G31: =IF($F31=" "," ",ROUND($E31*F31,2))
A33: 5.3. | B33: PSG 8.3.4 | C33: Anchor rods (dowels)
A34: 5.3.1 | C34: a) Y32 Galvanised Dowels with hooked end, 6 m deep into rock intake tower, vertical | D34: t | E34: 6.5 | G34: =IF($F34=" "," ",ROUND($E34*F34,2))
B36: 8.4 | C36: Scheduled Concrete Items
A37: 5.4. | B37: 8.4.3 | C37: Strength Concrete
A38: 5.4.1 | C38: a) Mass concrete 20 MPa/19 mm for intake tower base | D38: m³ | E38: 465 | G38: =IF($F38=" "," ",ROUND($E38*F38,2))
A39: 5.4.2 | C39: b) Reinforced concrete 30 MPa/19 mm for intake tower wall | D39: m³ | E39: 200 | G39: =IF($F39=" "," ",ROUND($E39*F39,2))
A40: 5.4.3 | C40: c) Reinforced concrete 30 MPa/19 mm for downstream valve room and access | D40: m³ | E40: 100 | G40: =IF($F40=" "," ",ROUND($E40*F40,2))
A41: 5.4.4 | C41: d) Mass concrete 20 Mpa/19 mm gallery access floor, including stairs | D41: m³ | E41: 80 | G41: =IF($F41=" "," ",ROUND($E41*F41,2))
A43: CARRIED FORWARD | G43: =IF(SUM(G8:G42)=0,"",SUM(G8:G42))
A46: =+A2 -> PART 5: INTAKE TOWER, ACCESS GALLERY, INCLUDING PIPEWORK
A48: ITEM | B48: PAYMENT | C48: DESCRIPTION | D48: UNIT | E48: QTY | F48: RATE | G48: AMOUNT
A49: NO | B49: REFERS
A50: BROUGHT FORWARD | G50: =IF(G43="","",G43)
A52: 5.5. | B52: 8.4.4 | C52: Unformed Surface Finishes
A53: 5.5.1 | C53: a) Steel-Floated Finish for intake tower base and roof | D53: m² | E53: 150 | G53: =IF($F53=" "," ",ROUND($E53*F53,2))
A54: 5.5.2 | C54: b) Steel-Floated Finish for valve control room floor and roof | D54: m² | E54: 175 | G54: =IF($F54=" "," ",ROUND($E54*F54,2))
...

Sheet 6
A2: PART 6: CONCRETE WORKS - OGEE SPILLWAY AND STILLING BASIN
A4: ITEM | B4: PAYMENT | C4: DESCRIPTION | D4: UNIT | E4: QTY | F4: RATE | G4: AMOUNT
A5: NO | B5: REFERS
B8: SANS | C8: CONCRETE (STRUCTURAL)
B9: 1200G
B10: PSG | C10: Scheduled Formwork
A11: 6.1. | B11: 8.2.1 | C11: Rough
A12: 6.1.1 | C12: a) Covered faces of stilling basin sidewall and training walls | D12: m² | E12: 310 | G12: =IF($F12=" "," ",ROUND($E12*F12,2))
A13: 6.1.2 | C13: b) Covered faces of sill d/s of stilling basin | D13: m² | E13: 75 | G13: =IF($F13=" "," ",ROUND($E13*F13,2))
A15: 6.2. | B15: 8.2.2 | C15: Smooth
A16: 6.2.1 | C16: a) Spillway side walls | D16: m² | E16: 600 | G16: =IF($F16=" "," ",ROUND($E16*F16,2))
A17: 6.2.2 | C17: b) Exposed faces of stilling basin walls | D17: m² | E17: 500 | G17: =IF($F17=" "," ",ROUND($E17*F17,2))
A18: 6.2.3 | C18: c) Stilling basin flow dividers | D18: m² | E18: 35 | G18: =IF($F18=" "," ",ROUND($E18*F18,2))
A19: 6.2.4 | C19: d) Stilling basin splitter | D19: m² | E19: 110 | G19: =IF($F19=" "," ",ROUND($E19*F19,2))
A20: 6.2.5 | C20: e) Stilling basin end sill | D20: m² | E20: 150 | G20: =IF($F20=" "," ",ROUND($E20*F20,2))
A21: 6.2.6 | C21: f) Exposed faces of spillway U/S | D21: m² | E21: 120 | G21: =IF($F21=" "," ",ROUND($E21*F21,2))
A22: 6.2.7 | C22: g) Sloping curved face to spillway ogee | D22: m² | E22: 230 | G22: =IF($F22=" "," ",ROUND($E22*F22,2))
A23: 6.2.8 | C23: h) Exposed faces of sill d/s of stilling basin | D23: m² | E23: 80 | G23: =IF($F23=" "," ",ROUND($E23*F23,2))
A25: 6.3. | B25: PSG 8.2.7 | C25: Special formed construction joints
A26: 6.3.1 | C26: a) Below stilling basin flow dividers | D26: m² | E26: 30 | G26: =IF($F26=" "," ",ROUND($E26*F26,2))
A27: 6.3.2 | C27: b) Connection between spillway sidewall and hardfill NOC | D27: m² | E27: 125 | G27: =IF($F27=" "," ",ROUND($E27*F27,2))
B29: 8.3 | C29: Scheduled Reinforcement Items
B30: 8.3.1 | C30: Steel bars
A31: 6.4. | C31: High tensile steel bars
A32: 6.4.1 | C32: a) Spillway side walls | D32: t | E32: 29 | G32: =IF($F32=" "," ",ROUND($E32*F32,2))
A33: 6.4.2 | C33: b) Stilling basin walls | D33: t | E33: 53 | G33: =IF($F33=" "," ",ROUND($E33*F33,2))
A34: 6.4.3 | C34: c) Stilling basin apron and end sill and splitters | D34: t | E34: 85 | G34: =IF($F34=" "," ",ROUND($E34*F34,2))
A35: 6.4.4 | C35: d) Stilling basin flow dividers | D35: t | E35: 2 | G35: =IF($F35=" "," ",ROUND($E35*F35,2))
A36: 6.4.5 | C36: e) Spillway Ogee crest | D36: t | E36: 69 | G36: =IF($F36=" "," ",ROUND($E36*F36,2))
A38: 6.5 | B38: 8.3.1 | C38: Low tensile steel bars
A39: 6.5.1 | C39: a) Spillway side walls | D39: t | E39: 0.3 | G39: =IF($F39=" "," ",ROUND($E39*F39,2))
A41: 6.6 | B41: PSG 8.3.4 | C41: Anchor rods (dowels)
A42: 6.6.1 | C42: a) Y16 Galvanised dowels from flow dividers into spillway body | D42: t | E42: 0.25 | G42: =IF($F42=" "," ",ROUND($E42*F42,2))
A43: 6.6.2 | C43: b) Y32 Galvanised Dowels with hooked end, 4 m deep into rock, vertical at spillway apron and retaining walls | D43: t | E43: 10 | G43: =IF($F43=" "," ",ROUND($E43*F43,2))
A44: 6.6.3 | C44: c) Y25 Dowels drilled into hardfill from sidewalls | D44: t | E44: 1.5 | G44: =IF($F44=" "," ",ROUND($E44*F44,2))
A46: CARRIED FORWARD | G46: =IF(SUM(G7:G45)=0,"",SUM(G7:G45))
A49: =+A2 -> PART 6: CONCRETE WORKS - OGEE SPILLWAY AND STILLING BASIN
A51: ITEM | B51: PAYMENT | C51: DESCRIPTION | D51: UNIT | E51: QTY | F51: RATE | G51: AMOUNT
A52: NO | B52: REFERS
A53: BROUGHT FORWARD | G53: =IF(G46="","",G46)
...

Sheet 7
A2: PART 7: RUBBLE MASONRY CONCRETE SPILLWAY SILL
A4: ITEM | B4: PAYMENT | C4: DESCRIPTION | D4: UNIT | E4: QTY | F4: RATE | G4: AMOUNT
A5: NO | B5: REFERS
B8: SANS | C8: SITE CLEARANCE
B9: 1200 C
A10: 7.1. | B10: 8.2.1 | C10: Clear and grub
A11: 7.1.1 | C11: a) Spillway Sill area | D11: ha | E11: 0.1 | G11: =IF($F11=" "," ",ROUND($E11*F11,2))
A13: 7.1.2 | B13: 8.2.3 | C13: Remove and grub all trees and tree stumps irrespective of girth | D13: ha | E13: 0.1 | G13: =IF($F13=" "," ",ROUND($E13*F13,2))
A15: 7.1.3 | B15: 8.2.10 | C15: Remove topsoil to a nominal depth of 150 mm and stockpile | D15: m³ | E15: 100 | G15: =IF($F15=" "," ",ROUND($E15*F15,2))
B17: 1200 D | C17: EARTHWORKS
B18: PSD
A19: 7.2. | B19: 8.3.2 | C19: Bulk Excavation
A20: 7.2.1 | C20: a) Excavate in all materials for construction of end sill | D20: m³ | E20: 1400 | G20: =IF($F20=" "," ",ROUND($E20*F20,2))
C21: b) Extra-over for:
A22: 7.2.2 | C22: 1) Hard-rock excavation | D22: m³ | E22: 50 | G22: =IF($F22=" "," ",ROUND($E22*F22,2))
A24: 7.3. | C24: Extra over for backfill or fill material against structures
A25: 7.3.1 | C25: a) Random backfill on upstream of spillway sill | D25: m³ | E25: 850 | G25: =IF($F25=" "," ",ROUND($E25*F25,2))
A26: 7.3.2 | C26: b) Random backfill on downstream of spillway sill | D26: m³ | E26: 400 | G26: =IF($F26=" "," ",ROUND($E26*F26,2))
B28: PPS 7 | C28: RUBBLE MASONRY CONCRETE
A30: 7.4. | B30: PPS7.9.2.1 | C30: Foundation Preparation
A31: 7.4.1 | C31: a) Preparation of competent rock foundation surface | D31: m² | E31: 120 | G31: =IF($F31=" "," ",ROUND($E31*F31,2))
A32: 7.4.2 | C32: b) Preparation of fill or ground surface | D32: m² | E32: 20 | G32: =IF($F32=" "," ",ROUND($E32*F32,2))
B34: PPS7.9.2.2 | C34: Mortar Blinding
A35: 7.4.3 | C35: a) 175 mm deep 1 + 3 Cement + Sand receiving layer | D35: m² | E35: 20 | G35: =IF($F35=" "," ",ROUND($E35*F35,2))
B37: PPS7.9.2.3 | C37: Rubble Masonry Concrete
A38: 7.4.4 | C38: a) 1 part Cement to approximately 6 part Sand (9 Mpa) | D38: m³ | E38: 200 | G38: =IF($F38=" "," ",ROUND($E38*F38,2))
C39: b) Area of Structure to be flush/recess pointed
A40: 7.4.5 | C40: i) Upstream face of spillway sill | D40: m² | E40: 100 | G40: =IF($F40=" "," ",ROUND($E40*F40,2))
A41: 7.4.6 | C41: ii) Downstream face of spillway sill | D41: m² | E41: 115 | G41: =IF($F41=" "," ",ROUND($E41*F41,2))
A42: 7.4.7 | C42: iii) Crest of spillway sill | D42: m² | E42: 40 | G42: =IF($F42=" "," ",ROUND($E42*F42,2))
A43: 7.4.8 | C43: iii) Inside of drainage openings | D43: m² | E43: 25 | G43: =IF($F43=" "," ",ROUND($E43*F43,2))
A45: CARRIED FORWARD | G45: =IF(SUM(G6:G44)=0,"",SUM(G6:G44))
A48: =A2 -> PART 7: RUBBLE MASONRY CONCRETE SPILLWAY SILL
A50: ITEM | B50: PAYMENT | C50: DESCRIPTION | D50: UNIT | E50: QTY | F50: RATE | G50: AMOUNT
A51: NO | B51: REFERS
A52: BROUGHT FORWARD | G52: =IF(G45="","",G45)
B54: SANS | C54: CONCRETE
B55: 1200 G
A56: 7.5. | B56: PSG 8.4.1 | C56: Prescribed Mix Concrete
A57: 7.5.1 | C57: No-fines concrete drain blocks | D57: m³ | E57: 0.3 | G57: =IF($F57=" "," ",ROUND($E57*F57,2))
...

Sheet 8
A2: PART 8: INSTRUMENTATION
A4: ITEM | B4: PAYMENT | C4: DESCRIPTION | D4: UNIT | E4: QTY | F4: RATE | G4: AMOUNT
A5: NO | B5: REFERS
B8: PPS29 | C8: DAM MONITORING INSTRUMENTATION
A10: 8.1. | B10: 29.9.1 | C10: Survey Prism Targets, Survey Monuments and Fixed points
A11: 8.1.1 | C11: a) Survey Prism Targets | D11: No | E11: 4 | G11: =IF($F11=" "," ",ROUND($E11*F11,2))
A12: 8.1.2 | C12: b) Survey Monuments | D12: No | E12: 2 | G12: =IF($F12=" "," ",ROUND($E12*F12,2))
A14: 8.2.1 | B14: 29.9.2 | C14: Geodetic Survey Instruments | D14: No | E14: 1 | G14: =IF($F14=" "," ",ROUND($E14*F14,2))
A16: 8.3.1 | B16: 29.9.3 | C16: Electrical Piezometers | D16: No | E16: 10 | G16: =IF($F16=" "," ",ROUND($E16*F16,2))
A18: 8.4. | B18: 29.9.4 | C18: Direct Temperature Measurement Instruments
A19: 8.4.1 | C19: a) Thermocouples | D19: No | E19: 22 | G19: =IF($F19=" "," ",ROUND($E19*F19,2))
A21: 8.5.1 | B21: 29.9.5 | C21: Strain gauges | D21: No | E21: 24 | G21: =IF($F21=" "," ",ROUND($E21*F21,2))
A23: 8.6. | B23: 29.6.6 | C23: Supply and installation of instrument cabling
A24: 8.6.1 | C24: a) Cabling from piezometers to read out unit | D24: m | E24: 1000 | G24: =IF($F24=" "," ",ROUND($E24*F24,2))
A25: 8.6.2 | C25: b) Cabling from strain gauges to read out unit | D25: m | E25: 1700 | G25: =IF($F25=" "," ",ROUND($E25*F25,2))
A26: 8.6.3 | C26: c) Cabling from thermocouples to read out unit | D26: m | E26: 1700 | G26: =IF($F26=" "," ",ROUND($E26*F26,2))
A28: 8.7.1 | B28: 29.9.7 | C28: Flow Measuring Weirs | D28: No | E28: 3 | G28: =IF($F28=" "," ",ROUND($E28*F28,2))
A30: 8.8.1 | B30: 29.9.8 | C30: Water Level Staff Gauges | D30: No | E30: 1 | G30: =IF($F30=" "," ",ROUND($E30*F30,2))
A32: 8.9.1 | B32: 29.9.10 | C32: Automated Data Acquisition System | D32: Sum | E32: 1 | G32: =IF($F32=" "," ",ROUND($E32*F32,2))
A34: 8.10.1 | B34: 29.9.11 | C34: Instruments Reading during construction | D34: Sum | E34: 1 | G34: =IF($F34=" "," ",ROUND($E34*F34,2))
A36: 8.11.1 | B36: 29.9.12 | C36: Supervision of installation of instrumentation and equipment and testing | D36: Sum | E36: 1 | G36: =IF($F36=" "," ",ROUND($E36*F36,2))
A38: 8.12.1 | B38: 29.9.13 | C38: Operation and Maintenance training | D38: Sum | E38: 1 | G38: =IF($F38=" "," ",ROUND($E38*F38,2))
A40: CARRIED FORWARD TO SUMMARY | G40: =IF(SUM(G7:G39)=0,"",SUM(G7:G39))

Sheet 9
A2: PART 9: DAYWORKS
A4: ITEM | B4: PAYMENT | C4: DESCRIPTION | D4: UNIT | E4: QTY | F4: RATE | G4: AMOUNT
A5: NO | B5: REFERS
A8: 9.1. | B8: PPS 8 | C8: DAYWORKS
A10: 9.1.1 | B10: PPS 8.4.2.1 | C10: Provide for gross remuneration of all labour authorised by the Engineer to be employed on dayworks | D10: PS | E10: 1 | F10: 300000 | G10: =IF($F10=" "," ",ROUND($E10*F10,2)) -> 300000
A12: 9.1.2 | B12: PPS 8.4.2.2 | C12: Provide for the Contractor's allowance over and above item 9.1.1 to cover all costs incurred in providing labour for dayworks | D12: % | G12: =IF($E12=" "," ",ROUND(G10*E12%,2))
A14: 9.1.3 | B14: PPS 8.4.2.3 | C14: Provide for the cost of the Contractor's plant authorised by the Engineer to be employed on dayworks. Such costs to be paid at hire rates, as quoted in the Tender Forms | D14: PS | E14: 1 | F14: 300000 | G14: =IF($F14=" "," ",ROUND($E14*F14,2)) -> 300000
A16: 9.1.4 | B16: PPS 8.4.2.4 | C16: Provide for the Contractor's allowance over and above item 9.1.3 to cover all costs incurred in providing plant for dayworks | D16: % | G16: =IF($E16=" "," ",ROUND(G14*E16%,2))
A18: 9.1.5 | B18: PPS 8.4.2.5 | C18: Provide for the cost of materials at rates quoted approved by the Engineer, if no rate is supplied) for supplying on site materials authorised by the Engineer for use on dayworks | D18: PS | E18: 1 | F18: 500000 | G18: =IF($F18=" "," ",ROUND($E18*F18,2)) -> 500000
A20: 9.1.6 | B20: PPS 8.4.2.6 | C20: Provide for the Contractor's allowance over and above item 9.1.5 to cover all costs incurred in supplying material for dayworks | D20: % | G20: =IF($E20=" "," ",ROUND(G18*E20%,2))
A23: CARRIED FORWARD TO SUMMARY | G23: =IF(SUM(G7:G22)=0,"",SUM(G7:G22)) -> 1100000

Sheet Summary
B3: CONSTRUCTION OF NTSONYINI NGQONGWENI OFF-CHANNEL STORAGE DAM – CONTRACT 2
B5: SUMMARY OF SCHEDULE
B11: =+'1'!A2 -> PART 1: PRELIMINARY AND GENERAL | G11: ='1'!G161 -> 18743500
B13: =+'2'!A2 -> PART 2: SITE CLEARING, EXCAVATION AND EARTHWORKS | G13: ='2'!G117
B15: =+'3'!A2 -> PART 3: FOUNDATION DRILLING AND GROUTING | G15: ='3'!G63 -> 250000
B17: =+'4'!A2 -> PART 4: HARDFILL DAM WITH CONCRETE UPSTREAM FACING | G17: ='4'!G232 -> 1500000
B19: =+'5'!A2 -> PART 5: INTAKE TOWER, ACCESS GALLERY, INCLUDING PIPEWORK | G19: ='5'!G198 -> 900000
B21: =+'6'!A2 -> PART 6: CONCRETE WORKS - OGEE SPILLWAY AND STILLING BASIN | G21: ='6'!G154
B23: ='7'!A2 -> PART 7: RUBBLE MASONRY CONCRETE SPILLWAY SILL | G23: ='7'!G83
B25: ='8'!A2 -> PART 8: INSTRUMENTATION | G25: ='8'!G40
B27: ='9'!A2 -> PART 9: DAYWORKS | G27: ='9'!G23 -> 1100000
B30: SUB TOTAL 1 | G30: =IF(SUM(G11:H29)=0,"",SUM(G11:H29)) -> 22493500
B32: Add 10% for Escalation | G32: =IF(G30=0,"",ROUND(G30*0.1,2)) -> 2249350
B34: SUB TOTAL 2 | G34: =IF(SUM(G30:H33)=0,"",SUM(G30:H33)) -> 24742850
B36: Add 5% for Contingencies | G36: =IF(G34=0,"",ROUND(G34*0.05,2)) -> 1237142.5
B38: SUB TOTAL 3 | G38: =IF(SUM(G34:H37)=0,"",SUM(G34:H37)) -> 25979992
B40: Contract Skills Development Goal (CSDG) @ 0.25% of SUB TOTAL 3 | G40: =IF(G38=0,"",ROUND(G38*0.0025,2)) -> 64949.98
B42: SUB TOTAL 4 | G42: =IF(SUM(G38:H41)=0,"",SUM(G38:H41)) -> 26044942
B44: ADD 15% V.A.T. of SUB TOTAL 4 | G44: =IF(G42=0,"",+G38*0.15) -> 3896998.9
B47: GRAND TOTAL CARRIED FORWARD | G47: =IF(G42=0,"",SUM(G42:H44)) -> 29941941
D60: Total as per PSA 8.2.5 | H60: % of Sub-Total 1
B62: SANS 1200A Items 8.3: Fixed Charge and Value Related Items | D62: =SUM('1'!G12:G27) -> 0 | H62: =D62/G30 -> 0
B64: SANS 1200A Items 8.4: Time Related Items | D64: =SUM('1'!G31:G50) -> 0 | H64: =D64/G30 -> 0
